Workbook

Sheet List1
A1: Výsledky nominačních závodů
A2: ve sportovní gymnastice a šplhu
A3: T. J. SOKOL LIBEŇ
B5: 2014
A9: Mladší žáci I. 2005 - 2007
A10: Jméno a příjmení | B10: Ročník | C10: Bodů | D10: Umístění | E10: Šplh | F10: Umístění
A11: Patrik Hladík | B11: 2007 | C11: 28 | D11: 1 | E11: 1/2 | F11: 13-15
A12: Jan Pikálek | B12: 2007 | C12: 27 | D12: 2 | E12: 13,0 | F12: 4
A13: Viktor Šmejkal | B13: 2005 | C13: 26.5 | D13: 3 | E13: 19 | F13: 6
A14: Marek Novotný | B14: 2006 | C14: 25.5 | D14: 4 | E14: 9 | F14: 1
A15: Daniel Purr | B15: 2006 | C15: 23 | D15: 5 | E15: 12 | F15: 3
A16: Mikuláš Janda | B16: 2006 | C16: 23 | D16: 6 | E16: 29 | F16: 10
A17: Tomáš Ondráček | B17: 2005 | C17: 21.5 | D17: 7 | E17: 19.8 | F17: 7
A18: Tadeáš Till | B18: 2005 | C18: 21 | D18: 8 | E18: 10.5 | F18: 2
A19: Tomáš Kléger | B19: 2005 | C19: 21 | D19: 9 | E19: 32.3 | F19: 11
A20: Radim Pecánek | B20: 2006 | C20: 20 | D20: 10 | E20: 26 | F20: 9
A21: Bartoloměj Koudela | B21: 2007 | C21: 19 | D21: 11 | E21: 1/2 | F21: 13-15
A22: Tomáš Daniel Ryba | B22: 2008 | C22: 18 | D22: 12-13
A23: Filip Tupý | B23: 2008 | C23: 18 | D23: 12-13
A24: Šimon Hajt | B24: 2007 | C24: 17 | D24: 14-15
A25: Jan Kroh | B25: 2007 | C25: 17 | D25: 14-15
A26: Michal Houfek | B26: 2005 | C26: 16 | D26: 16 | E26: 16.6 | F26: 5
A27: Vojtěch Jelínek | B27: 2006 | C27: 16 | D27: 17 | E27: 1/2 | F27: 13-15
A28: Patrik Kubín | B28: 2006 | C28: 16 | D28: 18
A29: Jaromír Vaněčka | B29: 2006 | C29: 14 | D29: 19
A30: Kryštof Pecka | B30: 2006 | C30: 10.5 | D30: 20 | E30: 3/4 | F30: 12
A31: David Teplý | B31: 2007 | C31: 10 | D31: 21
A32: Tomáš Coufal | B32: 2005 | C32: 4 | D32: 22
A33: Jakub Sobotka | B33: 2005 | C33: 2 | D33: 23 | E33: 24 | F33: 8
A34: Lukáš Berner | B34: 2007
A35: Karel Jabor | B35: 2007
A36: Jan Lukeš | B36: 2007
A37: Filip Hliňák | B37: 2006
A38: Michael Novotný | B38: 2006
A39: Jakub Dvořák | B39: 2006
A40: Jan Toman | B40: 2005
A41: Benjamin Florián | B41: 2005
A43: Pro další nácvik a účast na závodech byli vybráni:
A44: Patrik Hladík, Jan Pikálek, Viktor Šmejkal, Marek Novotný, Mikuláš Janda,
A45: Daniel Purr, Tomáš Ondráček
A46: Náhradník: Tomáš Kléger, Tadeáš Till
A47: U shodného počtu bodu ze SG, rozhodovalo pořadí ve šlhu.
E48: Zpracoval: ČEDOK
A49: Mladší žáci II. 2003 - 2004
A50: Jméno a příjmení | B50: Ročník | C50: Bodů | D50: Umístění | E50: Šplh | F50: Umístění
A51: Tomáš Purr | B51: 2004 | C51: 29 | D51: 1 | E51: 7,4 | F51: 5
A52: Petr Boháč | B52: 2003 | C52: 26 | D52: 2 | E52: 9.4 | F52: 9
A53: Jonas Gerri | B53: 2004 | C53: 26 | D53: 3 | E53: 9,6 | F53: 9-10
A54: Adam Novotný | B54: 2003 | C54: 25.5 | D54: 4 | E54: 6.5 | F54: 2
A55: Jakub Kudláček | B55: 2004 | C55: 25 | D55: 5 | E55: 5.2 | F55: 1
A56: Viktor Pikálek | B56: 2004 | C56: 25 | D56: 6 | E56: 6,7 | F56: 3
A57: Vilém Nachtmann | B57: 2003 | C57: 25 | D57: 7 | E57: 8 | F57: 6
A58: Adam Peter | B58: 2004 | C58: 24.5 | D58: 8 | E58: 9,6 | F58: 9-10
A59: Marek Sláma | B59: 2003 | C59: 24 | D59: 9 | E59: 11.1 | F59: 11
A60: Vít Unzeitig | B60: 2003 | C60: 24 | D60: 10 | E60: 3/4 | F60: 16
A61: Tomáš Šeda | B61: 2003 | C61: 20 | D61: 11 | E61: 9 | F61: 8
A62: Elias Scholz | B62: 2004 | C62: 19.5 | D62: 12 | E62: 17,3 | F62: 13
A63: Matěj Havlík | C63: 18 | D63: 13 | E63: 7,1 | F63: 4
A64: Dalibor Svoboda | B64: 2004 | C64: 17.5 | D64: 14 | E64: 21 | F64: 14
A65: Kryštof Šubr | B65: 2004 | C65: 17 | D65: 15 | E65: 24,9 | F65: 15
A66: Jakub Filip | C66: 16 | D66: 16 | E66: 8,8 | F66: 7
A67: Filip Hajt | B67: 2004 | C67: 15.5 | D67: 17 | E67: 12,6 | F67: 12
A68: Petr Šimáček | C68: 12 | D68: 18
A69: Daniel Procházka | B69: 2004 | C69: 5.5 | D69: 19
A70: Adam Teplý | B70: 2004 | C70: 4.5 | D70: 20
A71: Jakub Kudláček | B71: 2004
A72: Adam Zbořil | B72: 2003
A73: Pro další nácvik a účast na závodech byli vybráni:
A74: Tomáš Purr, Jonas Gerri, Petr Boháč, Adam Novotný, Viktor Pikálek
A75: Vilém Nachtmann, Jakub Kudláček, Vít Unzeitig
A76: Náhradníci: Adam Peter,Tomáš Šeda
A77: U shodného počtu bodu ze SG, rozhodovalo pořadí ve šlhu.
E78: Zpracoval: ČEDOK
A79: Starší žáci III. 2001 - 2002
A80: Jméno a příjmení | B80: Ročník | C80: Bodů | D80: Umístění | E80: Šplh | F80: Umístění
A81: Richard Kloubský | B81: 2001 | C81: 45 | D81: 1 | E81: 6.09 | F81: 1
A82: Jakub Málek | B82: 2002 | C82: 33 | D82: 2 | E82: 10 | F82: 3
A83: Jáchym Grohmann | B83: 2002 | C83: 23 | D83: 3
A84: Adam Fűrstenzeller | B84: 2002 | C84: 19 | D84: 4 | E84: 1/2 | F84: 5
A85: Jan Kerhart | B85: 2002 | C85: 13 | D85: 6
A86: Šimon Hejnic | B86: 2001 | C86: 13 | D86: 5 | E86: 6.45 | F86: 2
A87: David Hrnčiřík | B87: 2001 | C87: 10 | D87: 7
A88: Daniel Novotný | B88: 2001 | C88: 7.5 | D88: 8 | E88: 12.8 | F88: 4
A89: Radek Ulmann | B89: 2002
A90: Pro další nácvik a účast na závodech byli vybráni:
A91: Richard Kloubský, Jakub Málek
A92: Náhradník: Jáchym Gromann | E92: Zpracoval: ČEDOK
A93: Starší žáci IV. 1999 - 2000
A94: Jméno a příjmení | B94: Ročník | C94: Bodů | D94: Umístění | E94: Šplh | F94: Umístění
A95: Dan Unzeitig | B95: 2000 | C95: 35 | D95: 1 | E95: 4.8 | F95: 1
A96: Petr Jeřábek | B96: 2000 | C96: 28 | D96: 2 | E96: 12 | F96: 4
A97: Matěj Marek | B97: 2000 | C97: 23.5 | D97: 3 | E97: 9.6 | F97: 3
A98: Daniel Kadlec | B98: 2000 | C98: 21 | D98: 4 | E98: 7.9 | F98: 2
A99: Oliver Lukavský | B99: 2000 | C99: 20 | D99: 5 | E99: 18 | F99: 5
A100: Vojtěch Mrkvička | B100: 2000 | C100: 15 | D100: 6 | F100: 6
A102: Dorostenci
A103: Vojtěch Blahunek | B103: 1999 | C103: 30 | D103: 1 | E103: 6 | F103: 1
A104: Tomáš Vítek | B104: 1999 | C104: 23 | D104: 2 | E104: 8.6 | F104: 2
A105: Jan Šilha | B105: 1999 | C105: 10 | D105: 3
A106: Viktor Kubík | B106: 1999 | C106: 8 | D106: 4
...

Sheet List2

Sheet List3

Sheet DV-IDENTITY-0
A1: =IF(List1!#REF!,"AAAAAFrPeQA=",0) -> #REF! | B1: =AND(List1!#REF!,"AAAAAFrPeQE=") -> #REF! | C1: =IF(List1!A:A,"AAAAAFrPeQI=",0) -> #VALUE! | D1: =IF(List2!1:1,"AAAAAFrPeQM=",0) -> 0 | E1: =AND(List2!A1,"AAAAAFrPeQQ=") -> #VALUE! | F1: =IF(List2!A:A,"AAAAAFrPeQU=",0) -> 0 | G1: =IF(List3!1:1,"AAAAAFrPeQY=",0) -> 0 | H1: =AND(List3!A1,"AAAAAFrPeQc=") -> #VALUE! | I1: =IF(List3!A:A,"AAAAAFrPeQg=",0) -> 0
A2: =AND(List1!#REF!,"AAAAAH7wfQA=") -> #REF! | B2: =AND(List1!#REF!,"AAAAAH7wfQE=") -> #REF! | C2: =AND(List1!#REF!,"AAAAAH7wfQI=") -> #REF! | D2: =AND(List1!#REF!,"AAAAAH7wfQM=") -> #REF! | E2: =AND(List1!#REF!,"AAAAAH7wfQQ=") -> #REF! | F2: =IF(List1!9:9,"AAAAAH7wfQU=",0) -> 0 | G2: =AND(List1!A9,"AAAAAH7wfQY=") -> #VALUE! | H2: =AND(List1!B9,"AAAAAH7wfQc=") -> #VALUE! | I2: =AND(List1!C9,"AAAAAH7wfQg=") -> #VALUE! | J2: =AND(List1!D9,"AAAAAH7wfQk=") -> #VALUE! | K2: =AND(List1!E9,"AAAAAH7wfQo=") -> #VALUE! | L2: =AND(List1!F9,"AAAAAH7wfQs=") -> #VALUE! | M2: =IF(List1!10:10,"AAAAAH7wfQw=",0) -> 0 | N2: =AND(List1!A10,"AAAAAH7wfQ0=") -> #VALUE! | O2: =AND(List1!B10,"AAAAAH7wfQ4=") -> #VALUE! | P2: =AND(List1!C10,"AAAAAH7wfQ8=") -> #VALUE! | Q2: =AND(List1!D10,"AAAAAH7wfRA=") -> #VALUE! | R2: =AND(List1!E10,"AAAAAH7wfRE=") -> #VALUE! | S2: =AND(List1!F10,"AAAAAH7wfRI=") -> #VALUE! | T2: =IF(List1!11:11,"AAAAAH7wfRM=",0) -> 0 | U2: =AND(List1!A11,"AAAAAH7wfRQ=") -> #VALUE! | V2: =AND(List1!B11,"AAAAAH7wfRU=") -> #VALUE! | W2: =AND(List1!C11,"AAAAAH7wfRY=") -> #VALUE! | X2: =AND(List1!D11,"AAAAAH7wfRc=") -> #VALUE! | Y2: =AND(List1!E11,"AAAAAH7wfRg=") -> #VALUE! | Z2: =AND(List1!F11,"AAAAAH7wfRk=") -> #VALUE! | AA2: =IF(List1!12:12,"AAAAAH7wfRo=",0) -> 0 | AB2: =AND(List1!A12,"AAAAAH7wfRs=") -> #VALUE! | AC2: =AND(List1!B12,"AAAAAH7wfRw=") -> #VALUE! | AD2: =AND(List1!C12,"AAAAAH7wfR0=") -> #VALUE! | AE2: =AND(List1!D12,"AAAAAH7wfR4=") -> #VALUE! | AF2: =AND(List1!E12,"AAAAAH7wfR8=") -> #VALUE! | AG2: =AND(List1!F12,"AAAAAH7wfSA=") -> #VALUE! | AH2: =IF(List1!13:13,"AAAAAH7wfSE=",0) -> 0 | AI2: =AND(List1!A13,"AAAAAH7wfSI=") -> #VALUE! | AJ2: =AND(List1!B13,"AAAAAH7wfSM=") -> #VALUE! | AK2: =AND(List1!C13,"AAAAAH7wfSQ=") -> #VALUE! | AL2: =AND(List1!D13,"AAAAAH7wfSU=") -> #VALUE! | AM2: =AND(List1!E13,"AAAAAH7wfSY=") -> #VALUE! | AN2: =AND(List1!F13,"AAAAAH7wfSc=") -> #VALUE! | AO2: =IF(List1!14:14,"AAAAAH7wfSg=",0) -> 0 | AP2: =AND(List1!A14,"AAAAAH7wfSk=") -> #VALUE! | AQ2: =AND(List1!B14,"AAAAAH7wfSo=") -> #VALUE! | AR2: =AND(List1!C14,"AAAAAH7wfSs=") -> #VALUE! | AS2: =AND(List1!D14,"AAAAAH7wfSw=") -> #VALUE! | AT2: =AND(List1!E14,"AAAAAH7wfS0=") -> #VALUE! | AU2: =AND(List1!F14,"AAAAAH7wfS4=") -> #VALUE! | AV2: =IF(List1!15:15,"AAAAAH7wfS8=",0) -> 0 | AW2: =AND(List1!A15,"AAAAAH7wfTA=") -> #VALUE! | AX2: =AND(List1!B15,"AAAAAH7wfTE=") -> #VALUE! | AY2: =AND(List1!C15,"AAAAAH7wfTI=") -> #VALUE! | AZ2: =AND(List1!D15,"AAAAAH7wfTM=") -> #VALUE! | BA2: =AND(List1!E15,"AAAAAH7wfTQ=") -> #VALUE! | BB2: =AND(List1!F15,"AAAAAH7wfTU=") -> #VALUE! | BC2: =IF(List1!16:16,"AAAAAH7wfTY=",0) -> 0 | BD2: =AND(List1!A16,"AAAAAH7wfTc=") -> #VALUE! | BE2: =AND(List1!B16,"AAAAAH7wfTg=") -> #VALUE! | BF2: =AND(List1!C16,"AAAAAH7wfTk=") -> #VALUE! | BG2: =AND(List1!D16,"AAAAAH7wfTo=") -> #VALUE! | BH2: =AND(List1!E16,"AAAAAH7wfTs=") -> #VALUE! | BI2: =AND(List1!F16,"AAAAAH7wfTw=") -> #VALUE! | BJ2: =IF(List1!17:17,"AAAAAH7wfT0=",0) -> 0 | BK2: =AND(List1!A17,"AAAAAH7wfT4=") -> #VALUE! | BL2: =AND(List1!B17,"AAAAAH7wfT8=") -> #VALUE! | BM2: =AND(List1!C17,"AAAAAH7wfUA=") -> #VALUE! | BN2: =AND(List1!D17,"AAAAAH7wfUE=") -> #VALUE! | BO2: =AND(List1!E17,"AAAAAH7wfUI=") -> #VALUE! | BP2: =AND(List1!F17,"AAAAAH7wfUM=") -> #VALUE! | BQ2: =IF(List1!18:18,"AAAAAH7wfUQ=",0) -> 0 | BR2: =AND(List1!A18,"AAAAAH7wfUU=") -> #VALUE! | BS2: =AND(List1!B18,"AAAAAH7wfUY=") -> #VALUE! | BT2: =AND(List1!C18,"AAAAAH7wfUc=") -> #VALUE! | BU2: =AND(List1!D18,"AAAAAH7wfUg=") -> #VALUE! | BV2: =AND(List1!E18,"AAAAAH7wfUk=") -> #VALUE! | BW2: =AND(List1!F18,"AAAAAH7wfUo=") -> #VALUE! | BX2: =IF(List1!19:19,"AAAAAH7wfUs=",0) -> 0 | BY2: =AND(List1!A19,"AAAAAH7wfUw=") -> #VALUE! | BZ2: =AND(List1!B19,"AAAAAH7wfU0=") -> #VALUE! | CA2: =AND(List1!C19,"AAAAAH7wfU4=") -> #VALUE! | CB2: =AND(List1!D19,"AAAAAH7wfU8=") -> #VALUE! | CC2: =AND(List1!E19,"AAAAAH7wfVA=") -> #VALUE! | CD2: =AND(List1!F19,"AAAAAH7wfVE=") -> #VALUE! | CE2: =IF(List1!20:20,"AAAAAH7wfVI=",0) -> 0 | CF2: =AND(List1!A20,"AAAAAH7wfVM=") -> #VALUE! | CG2: =AND(List1!B20,"AAAAAH7wfVQ=") -> #VALUE! | CH2: =AND(List1!C20,"AAAAAH7wfVU=") -> #VALUE! | CI2: =AND(List1!D20,"AAAAAH7wfVY=") -> #VALUE! | CJ2: =AND(List1!E20,"AAAAAH7wfVc=") -> #VALUE! | CK2: =AND(List1!F20,"AAAAAH7wfVg=") -> #VALUE! | CL2: =IF(List1!21:21,"AAAAAH7wfVk=",0) -> 0 | CM2: =AND(List1!A21,"AAAAAH7wfVo=") -> #VALUE! | CN2: =AND(List1!B21,"AAAAAH7wfVs=") -> #VALUE! | CO2: =AND(List1!C21,"AAAAAH7wfVw=") -> #VALUE! | CP2: =AND(List1!D21,"AAAAAH7wfV0=") -> #VALUE! | CQ2: =AND(List1!E21,"AAAAAH7wfV4=") -> #VALUE! | CR2: =AND(List1!F21,"AAAAAH7wfV8=") -> #VALUE! | CS2: =IF(List1!22:22,"AAAAAH7wfWA=",0) -> 0 | CT2: =AND(List1!A22,"AAAAAH7wfWE=") -> #VALUE! | CU2: =AND(List1!B22,"AAAAAH7wfWI=") -> #VALUE! | CV2: =AND(List1!C22,"AAAAAH7wfWM=") -> #VALUE! | CW2: =AND(List1!D22,"AAAAAH7wfWQ=") -> #VALUE! | CX2: =AND(List1!E22,"AAAAAH7wfWU=") -> #VALUE! | CY2: =AND(List1!F22,"AAAAAH7wfWY=") -> #VALUE! | CZ2: =IF(List1!23:23,"AAAAAH7wfWc=",0) -> 0 | DA2: =AND(List1!A23,"AAAAAH7wfWg=") -> #VALUE! | DB2: =AND(List1!B23,"AAAAAH7wfWk=") -> #VALUE! | DC2: =AND(List1!C23,"AAAAAH7wfWo=") -> #VALUE! | DD2: =AND(List1!D23,"AAAAAH7wfWs=") -> #VALUE! | DE2: =AND(List1!E23,"AAAAAH7wfWw=") -> #VALUE! | DF2: =AND(List1!F23,"AAAAAH7wfW0=") -> #VALUE! | DG2: =IF(List1!24:24,"AAAAAH7wfW4=",0) -> 0 | DH2: =AND(List1!A24,"AAAAAH7wfW8=") -> #VALUE! | DI2: =AND(List1!B24,"AAAAAH7wfXA=") -> #VALUE! | DJ2: =AND(List1!C24,"AAAAAH7wfXE=") -> #VALUE! | DK2: =AND(List1!D24,"AAAAAH7wfXI=") -> #VALUE! | DL2: =AND(List1!E24,"AAAAAH7wfXM=") -> #VALUE! | DM2: =AND(List1!F24,"AAAAAH7wfXQ=") -> #VALUE! | DN2: =IF(List1!25:25,"AAAAAH7wfXU=",0) -> 0 | DO2: =AND(List1!A25,"AAAAAH7wfXY=") -> #VALUE! | DP2: =AND(List1!B25,"AAAAAH7wfXc=") -> #VALUE! | DQ2: =AND(List1!C25,"AAAAAH7wfXg=") -> #VALUE! | DR2: =AND(List1!D25,"AAAAAH7wfXk=") -> #VALUE! | DS2: =AND(List1!E25,"AAAAAH7wfXo=") -> #VALUE! | DT2: =AND(List1!F25,"AAAAAH7wfXs=") -> #VALUE! | DU2: =IF(List1!26:26,"AAAAAH7wfXw=",0) -> 0 | DV2: =AND(List1!A26,"AAAAAH7wfX0=") -> #VALUE! | DW2: =AND(List1!B26,"AAAAAH7wfX4=") -> #VALUE! | DX2: =AND(List1!C26,"AAAAAH7wfX8=") -> #VALUE! | DY2: =AND(List1!D26,"AAAAAH7wfYA=") -> #VALUE! | DZ2: =AND(List1!E26,"AAAAAH7wfYE=") -> #VALUE! | EA2: =AND(List1!F26,"AAAAAH7wfYI=") -> #VALUE! | EB2: =IF(List1!27:27,"AAAAAH7wfYM=",0) -> 0 | EC2: =AND(List1!A27,"AAAAAH7wfYQ=") -> #VALUE! | ED2: =AND(List1!B27,"AAAAAH7wfYU=") -> #VALUE! | EE2: =AND(List1!C27,"AAAAAH7wfYY=") -> #VALUE! | EF2: =AND(List1!D27,"AAAAAH7wfYc=") -> #VALUE! | EG2: =AND(List1!E27,"AAAAAH7wfYg=") -> #VALUE! | EH2: =AND(List1!F27,"AAAAAH7wfYk=") -> #VALUE! | EI2: =IF(List1!28:28,"AAAAAH7wfYo=",0) -> 0 | EJ2: =AND(List1!A28,"AAAAAH7wfYs=") -> #VALUE! | EK2: =AND(List1!B28,"AAAAAH7wfYw=") -> #VALUE! | EL2: =AND(List1!C28,"AAAAAH7wfY0=") -> #VALUE! | EM2: =AND(List1!D28,"AAAAAH7wfY4=") -> #VALUE! | EN2: =AND(List1!E28,"AAAAAH7wfY8=") -> #VALUE! | EO2: =AND(List1!F28,"AAAAAH7wfZA=") -> #VALUE! | EP2: =IF(List1!29:29,"AAAAAH7wfZE=",0) -> 0 | EQ2: =AND(List1!A29,"AAAAAH7wfZI=") -> #VALUE! | ER2: =AND(List1!B29,"AAAAAH7wfZM=") -> #VALUE! | ES2: =AND(List1!C29,"AAAAAH7wfZQ=") -> #VALUE! | ET2: =AND(List1!D29,"AAAAAH7wfZU=") -> #VALUE! | EU2: =AND(List1!E29,"AAAAAH7wfZY=") -> #VALUE! | EV2: =AND(List1!F29,"AAAAAH7wfZc=") -> #VALUE! | EW2: =IF(List1!30:30,"AAAAAH7wfZg=",0) -> 0 | EX2: =AND(List1!A30,"AAAAAH7wfZk=") -> #VALUE! | EY2: =AND(List1!B30,"AAAAAH7wfZo=") -> #VALUE! | EZ2: =AND(List1!C30,"AAAAAH7wfZs=") -> #VALUE! | FA2: =AND(List1!D30,"AAAAAH7wfZw=") -> #VALUE! | FB2: =AND(List1!E30,"AAAAAH7wfZ0=") -> #VALUE! | FC2: =AND(List1!F30,"AAAAAH7wfZ4=") -> #VALUE! | FD2: =IF(List1!31:31,"AAAAAH7wfZ8=",0) -> 0 | FE2: =AND(List1!A31,"AAAAAH7wfaA=") -> #VALUE! | FF2: =AND(List1!B31,"AAAAAH7wfaE=") -> #VALUE! | FG2: =AND(List1!C31,"AAAAAH7wfaI=") -> #VALUE! | FH2: =AND(List1!D31,"AAAAAH7wfaM=") -> #VALUE! | FI2: =AND(List1!E31,"AAAAAH7wfaQ=") -> #VALUE! | FJ2: =AND(List1!F31,"AAAAAH7wfaU=") -> #VALUE! | FK2: =IF(List1!32:32,"AAAAAH7wfaY=",0) -> 0 | FL2: =AND(List1!A32,"AAAAAH7wfac=") -> #VALUE! | FM2: =AND(List1!B32,"AAAAAH7wfag=") -> #VALUE! | FN2: =AND(List1!C32,"AAAAAH7wfak=") -> #VALUE! | FO2: =AND(List1!D32,"AAAAAH7wfao=") -> #VALUE! | FP2: =AND(List1!E32,"AAAAAH7wfas=") -> #VALUE! | FQ2: =AND(List1!F32,"AAAAAH7wfaw=") -> #VALUE! | FR2: =IF(List1!33:33,"AAAAAH7wfa0=",0) -> 0 | FS2: =AND(List1!A33,"AAAAAH7wfa4=") -> #VALUE! | FT2: =AND(List1!B33,"AAAAAH7wfa8=") -> #VALUE! | FU2: =AND(List1!C33,"AAAAAH7wfbA=") -> #VALUE! | FV2: =AND(List1!D33,"AAAAAH7wfbE=") -> #VALUE! | FW2: =AND(List1!E33,"AAAAAH7wfbI=") -> #VALUE! | FX2: =AND(List1!F33,"AAAAAH7wfbM=") -> #VALUE! | FY2: =IF(List1!34:34,"AAAAAH7wfbQ=",0) -> 0 | FZ2: =AND(List1!A34,"AAAAAH7wfbU=") -> #VALUE! | GA2: =AND(List1!B34,"AAAAAH7wfbY=") -> #VALUE! | GB2: =AND(List1!C34,"AAAAAH7wfbc=") -> #VALUE! | GC2: =AND(List1!D34,"AAAAAH7wfbg=") -> #VALUE! | GD2: =AND(List1!E34,"AAAAAH7wfbk=") -> #VALUE! | GE2: =AND(List1!F34,"AAAAAH7wfbo=") -> #VALUE! | GF2: =IF(List1!35:35,"AAAAAH7wfbs=",0) -> 0 | GG2: =AND(List1!A35,"AAAAAH7wfbw=") -> #VALUE! | GH2: =AND(List1!B35,"AAAAAH7wfb0=") -> #VALUE! | GI2: =AND(List1!C35,"AAAAAH7wfb4=") -> #VALUE! | GJ2: =AND(List1!D35,"AAAAAH7wfb8=") -> #VALUE! | GK2: =AND(List1!E35,"AAAAAH7wfcA=") -> #VALUE! | GL2: =AND(List1!F35,"AAAAAH7wfcE=") -> #VALUE! | GM2: =IF(List1!36:36,"AAAAAH7wfcI=",0) -> 0 | GN2: =AND(List1!A36,"AAAAAH7wfcM=") -> #VALUE! | GO2: =AND(List1!B36,"AAAAAH7wfcQ=") -> #VALUE! | GP2: =AND(List1!C36,"AAAAAH7wfcU=") -> #VALUE! | GQ2: =AND(List1!D36,"AAAAAH7wfcY=") -> #VALUE! | GR2: =AND(List1!E36,"AAAAAH7wfcc=") -> #VALUE! | GS2: =AND(List1!F36,"AAAAAH7wfcg=") -> #VALUE! | GT2: =IF(List1!37:37,"AAAAAH7wfck=",0) -> 0 | GU2: =AND(List1!A37,"AAAAAH7wfco=") -> #VALUE! | GV2: =AND(List1!B37,"AAAAAH7wfcs=") -> #VALUE! | GW2: =AND(List1!C37,"AAAAAH7wfcw=") -> #VALUE! | GX2: =AND(List1!D37,"AAAAAH7wfc0=") -> #VALUE! | GY2: =AND(List1!E37,"AAAAAH7wfc4=") -> #VALUE! | GZ2: =AND(List1!F37,"AAAAAH7wfc8=") -> #VALUE! | HA2: =IF(List1!38:38,"AAAAAH7wfdA=",0) -> 0 | HB2: =AND(List1!A38,"AAAAAH7wfdE=") -> #VALUE! | HC2: =AND(List1!B38,"AAAAAH7wfdI=") -> #VALUE! | HD2: =AND(List1!C38,"AAAAAH7wfdM=") -> #VALUE! | HE2: =AND(List1!D38,"AAAAAH7wfdQ=") -> #VALUE! | HF2: =AND(List1!E38,"AAAAAH7wfdU=") -> #VALUE! | HG2: =AND(List1!F38,"AAAAAH7wfdY=") -> #VALUE! | HH2: =IF(List1!39:39,"AAAAAH7wfdc=",0) -> 0 | HI2: =AND(List1!A39,"AAAAAH7wfdg=") -> #VALUE! | HJ2: =AND(List1!B39,"AAAAAH7wfdk=") -> #VALUE! | HK2: =AND(List1!C39,"AAAAAH7wfdo=") -> #VALUE! | HL2: =AND(List1!D39,"AAAAAH7wfds=") -> #VALUE! | HM2: =AND(List1!E39,"AAAAAH7wfdw=") -> #VALUE! | HN2: =AND(List1!F39,"AAAAAH7wfd0=") -> #VALUE! | HO2: =IF(List1!40:40,"AAAAAH7wfd4=",0) -> 0 | HP2: =AND(List1!A40,"AAAAAH7wfd8=") -> #VALUE! | HQ2: =AND(List1!B40,"AAAAAH7wfeA=") -> #VALUE! | HR2: =AND(List1!C40,"AAAAAH7wfeE=") -> #VALUE! | HS2: =AND(List1!D40,"AAAAAH7wfeI=") -> #VALUE! | HT2: =AND(List1!E40,"AAAAAH7wfeM=") -> #VALUE! | HU2: =AND(List1!F40,"AAAAAH7wfeQ=") -> #VALUE! | HV2: =IF(List1!41:41,"AAAAAH7wfeU=",0) -> 0 | HW2: =AND(List1!A41,"AAAAAH7wfeY=") -> #VALUE! | HX2: =AND(List1!B41,"AAAAAH7wfec=") -> #VALUE! | HY2: =AND(List1!C41,"AAAAAH7wfeg=") -> #VALUE! | HZ2: =AND(List1!D41,"AAAAAH7wfek=") -> #VALUE! | IA2: =AND(List1!E41,"AAAAAH7wfeo=") -> #VALUE! | IB2: =AND(List1!F41,"AAAAAH7wfes=") -> #VALUE! | IC2: =IF(List1!42:42,"AAAAAH7wfew=",0) -> 0 | ID2: =AND(List1!A42,"AAAAAH7wfe0=") -> #VALUE! | IE2: =AND(List1!B42,"AAAAAH7wfe4=") -> #VALUE! | IF2: =AND(List1!C42,"AAAAAH7wfe8=") -> #VALUE! | IG2: =AND(List1!D42,"AAAAAH7wffA=") -> #VALUE! | IH2: =AND(List1!E42,"AAAAAH7wffE=") -> #VALUE! | II2: =AND(List1!F42,"AAAAAH7wffI=") -> #VALUE! | IJ2: =IF(List1!48:48,"AAAAAH7wffM=",0) -> 0 | IK2: =AND(List1!A47,"AAAAAH7wffQ=") -> #VALUE! | IL2: =AND(List1!B48,"AAAAAH7wffU=") -> #VALUE! | IM2: =AND(List1!C48,"AAAAAH7wffY=") -> #VALUE! | IN2: =AND(List1!D48,"AAAAAH7wffc=") -> #VALUE! | IO2: =AND(List1!E48,"AAAAAH7wffg=") -> #VALUE! | IP2: =AND(List1!F48,"AAAAAH7wffk=") -> #VALUE! | IQ2: =IF(List1!49:49,"AAAAAH7wffo=",0) -> 0 | IR2: =AND(List1!A49,"AAAAAH7wffs=") -> #VALUE! | IS2: =AND(List1!B49,"AAAAAH7wffw=") -> #VALUE! | IT2: =AND(List1!C49,"AAAAAH7wff0=") -> #VALUE! | IU2: =AND(List1!D49,"AAAAAH7wff4=") -> #VALUE! | IV2: =AND(List1!E49,"AAAAAH7wff8=") -> #VALUE!
A3: =AND(List1!F49,"AAAAAF9pswA=") -> #VALUE! | B3: =IF(List1!50:50,"AAAAAF9pswE=",0) -> #VALUE! | C3: =AND(List1!A50,"AAAAAF9pswI=") -> #VALUE! | D3: =AND(List1!B50,"AAAAAF9pswM=") -> #VALUE! | E3: =AND(List1!C50,"AAAAAF9pswQ=") -> #VALUE! | F3: =AND(List1!D50,"AAAAAF9pswU=") -> #VALUE! | G3: =AND(List1!E50,"AAAAAF9pswY=") -> #VALUE! | H3: =AND(List1!F50,"AAAAAF9pswc=") -> #VALUE! | I3: =IF(List1!51:51,"AAAAAF9pswg=",0) -> 0 | J3: =AND(List1!A51,"AAAAAF9pswk=") -> #VALUE! | K3: =AND(List1!B51,"AAAAAF9pswo=") -> #VALUE! | L3: =AND(List1!C51,"AAAAAF9psws=") -> #VALUE! | M3: =AND(List1!D51,"AAAAAF9psww=") -> #VALUE! | N3: =AND(List1!E51,"AAAAAF9psw0=") -> #VALUE! | O3: =AND(List1!F51,"AAAAAF9psw4=") -> #VALUE! | P3: =IF(List1!52:52,"AAAAAF9psw8=",0) -> 0 | Q3: =AND(List1!A52,"AAAAAF9psxA=") -> #VALUE! | R3: =AND(List1!B52,"AAAAAF9psxE=") -> #VALUE! | S3: =AND(List1!C52,"AAAAAF9psxI=") -> #VALUE! | T3: =AND(List1!D52,"AAAAAF9psxM=") -> #VALUE! | U3: =AND(List1!E52,"AAAAAF9psxQ=") -> #VALUE! | V3: =AND(List1!F52,"AAAAAF9psxU=") -> #VALUE! | W3: =IF(List1!53:53,"AAAAAF9psxY=",0) -> 0 | X3: =AND(List1!A53,"AAAAAF9psxc=") -> #VALUE! | Y3: =AND(List1!B53,"AAAAAF9psxg=") -> #VALUE! | Z3: =AND(List1!C53,"AAAAAF9psxk=") -> #VALUE! | AA3: =AND(List1!D53,"AAAAAF9psxo=") -> #VALUE! | AB3: =AND(List1!E53,"AAAAAF9psxs=") -> #VALUE! | AC3: =AND(List1!F53,"AAAAAF9psxw=") -> #VALUE! | AD3: =IF(List1!54:54,"AAAAAF9psx0=",0) -> 0 | AE3: =AND(List1!A54,"AAAAAF9psx4=") -> #VALUE! | AF3: =AND(List1!B54,"AAAAAF9psx8=") -> #VALUE! | AG3: =AND(List1!C54,"AAAAAF9psyA=") -> #VALUE! | AH3: =AND(List1!D54,"AAAAAF9psyE=") -> #VALUE! | AI3: =AND(List1!E54,"AAAAAF9psyI=") -> #VALUE! | AJ3: =AND(List1!F54,"AAAAAF9psyM=") -> #VALUE! | AK3: =IF(List1!61:61,"AAAAAF9psyQ=",0) -> 0 | AL3: =AND(List1!A61,"AAAAAF9psyU=") -> #VALUE! | AM3: =AND(List1!B61,"AAAAAF9psyY=") -> #VALUE! | AN3: =AND(List1!C61,"AAAAAF9psyc=") -> #VALUE! | AO3: =AND(List1!D61,"AAAAAF9psyg=") -> #VALUE! | AP3: =AND(List1!E61,"AAAAAF9psyk=") -> #VALUE! | AQ3: =AND(List1!F61,"AAAAAF9psyo=") -> #VALUE! | AR3: =IF(List1!62:62,"AAAAAF9psys=",0) -> 0 | AS3: =AND(List1!A62,"AAAAAF9psyw=") -> #VALUE! | AT3: =AND(List1!B62,"AAAAAF9psy0=") -> #VALUE! | AU3: =AND(List1!C62,"AAAAAF9psy4=") -> #VALUE! | AV3: =AND(List1!D62,"AAAAAF9psy8=") -> #VALUE! | AW3: =AND(List1!E62,"AAAAAF9pszA=") -> #VALUE! | AX3: =AND(List1!F62,"AAAAAF9pszE=") -> #VALUE! | AY3: =IF(List1!63:63,"AAAAAF9pszI=",0) -> 0 | AZ3: =AND(List1!A63,"AAAAAF9pszM=") -> #VALUE! | BA3: =AND(List1!B63,"AAAAAF9pszQ=") -> #VALUE! | BB3: =AND(List1!C63,"AAAAAF9pszU=") -> #VALUE! | BC3: =AND(List1!D63,"AAAAAF9pszY=") -> #VALUE! | BD3: =AND(List1!E63,"AAAAAF9pszc=") -> #VALUE! | BE3: =AND(List1!F63,"AAAAAF9pszg=") -> #VALUE! | BF3: =IF(List1!64:64,"AAAAAF9pszk=",0) -> 0 | BG3: =AND(List1!A64,"AAAAAF9pszo=") -> #VALUE! | BH3: =AND(List1!B64,"AAAAAF9pszs=") -> #VALUE! | BI3: =AND(List1!C64,"AAAAAF9pszw=") -> #VALUE! | BJ3: =AND(List1!D64,"AAAAAF9psz0=") -> #VALUE! | BK3: =AND(List1!E64,"AAAAAF9psz4=") -> #VALUE! | BL3: =AND(List1!F64,"AAAAAF9psz8=") -> #VALUE! | BM3: =IF(List1!65:65,"AAAAAF9ps0A=",0) -> 0 | BN3: =AND(List1!A65,"AAAAAF9ps0E=") -> #VALUE! | BO3: =AND(List1!B65,"AAAAAF9ps0I=") -> #VALUE! | BP3: =AND(List1!C65,"AAAAAF9ps0M=") -> #VALUE! | BQ3: =AND(List1!D65,"AAAAAF9ps0Q=") -> #VALUE! | BR3: =AND(List1!E65,"AAAAAF9ps0U=") -> #VALUE! | BS3: =AND(List1!F65,"AAAAAF9ps0Y=") -> #VALUE! | BT3: =IF(List1!66:66,"AAAAAF9ps0c=",0) -> 0 | BU3: =AND(List1!A66,"AAAAAF9ps0g=") -> #VALUE! | BV3: =AND(List1!B66,"AAAAAF9ps0k=") -> #VALUE! | BW3: =AND(List1!C66,"AAAAAF9ps0o=") -> #VALUE! | BX3: =AND(List1!D66,"AAAAAF9ps0s=") -> #VALUE! | BY3: =AND(List1!E66,"AAAAAF9ps0w=") -> #VALUE! | BZ3: =AND(List1!F66,"AAAAAF9ps00=") -> #VALUE! | CA3: =IF(List1!67:67,"AAAAAF9ps04=",0) -> 0 | CB3: =AND(List1!A67,"AAAAAF9ps08=") -> #VALUE! | CC3: =AND(List1!B67,"AAAAAF9ps1A=") -> #VALUE! | CD3: =AND(List1!C67,"AAAAAF9ps1E=") -> #VALUE! | CE3: =AND(List1!D67,"AAAAAF9ps1I=") -> #VALUE! | CF3: =AND(List1!E67,"AAAAAF9ps1M=") -> #VALUE! | CG3: =AND(List1!F67,"AAAAAF9ps1Q=") -> #VALUE! | CH3: =IF(List1!68:68,"AAAAAF9ps1U=",0) -> 0 | CI3: =AND(List1!A68,"AAAAAF9ps1Y=") -> #VALUE! | CJ3: =AND(List1!B68,"AAAAAF9ps1c=") -> #VALUE! | CK3: =AND(List1!C68,"AAAAAF9ps1g=") -> #VALUE! | CL3: =AND(List1!D68,"AAAAAF9ps1k=") -> #VALUE! | CM3: =AND(List1!E68,"AAAAAF9ps1o=") -> #VALUE! | CN3: =AND(List1!F68,"AAAAAF9ps1s=") -> #VALUE! | CO3: =IF(List1!69:69,"AAAAAF9ps1w=",0) -> 0 | CP3: =AND(List1!A69,"AAAAAF9ps10=") -> #VALUE! | CQ3: =AND(List1!B69,"AAAAAF9ps14=") -> #VALUE! | CR3: =AND(List1!C69,"AAAAAF9ps18=") -> #VALUE! | CS3: =AND(List1!D69,"AAAAAF9ps2A=") -> #VALUE! | CT3: =AND(List1!E69,"AAAAAF9ps2E=") -> #VALUE! | CU3: =AND(List1!F69,"AAAAAF9ps2I=") -> #VALUE! | CV3: =IF(List1!70:70,"AAAAAF9ps2M=",0) -> 0 | CW3: =AND(List1!A70,"AAAAAF9ps2Q=") -> #VALUE! | CX3: =AND(List1!B70,"AAAAAF9ps2U=") -> #VALUE! | CY3: =AND(List1!C70,"AAAAAF9ps2Y=") -> #VALUE! | CZ3: =AND(List1!D70,"AAAAAF9ps2c=") -> #VALUE! | DA3: =AND(List1!E70,"AAAAAF9ps2g=") -> #VALUE! | DB3: =AND(List1!F70,"AAAAAF9ps2k=") -> #VALUE! | DC3: =IF(List1!71:71,"AAAAAF9ps2o=",0) -> 0 | DD3: =AND(List1!A71,"AAAAAF9ps2s=") -> #VALUE! | DE3: =AND(List1!B71,"AAAAAF9ps2w=") -> #VALUE! | DF3: =AND(List1!C71,"AAAAAF9ps20=") -> #VALUE! | DG3: =AND(List1!D71,"AAAAAF9ps24=") -> #VALUE! | DH3: =AND(List1!E71,"AAAAAF9ps28=") -> #VALUE! | DI3: =AND(List1!F71,"AAAAAF9ps3A=") -> #VALUE! | DJ3: =IF(List1!72:72,"AAAAAF9ps3E=",0) -> 0 | DK3: =AND(List1!A72,"AAAAAF9ps3I=") -> #VALUE! | DL3: =AND(List1!B72,"AAAAAF9ps3M=") -> #VALUE! | DM3: =AND(List1!C72,"AAAAAF9ps3Q=") -> #VALUE! | DN3: =AND(List1!D72,"AAAAAF9ps3U=") -> #VALUE! | DO3: =AND(List1!E72,"AAAAAF9ps3Y=") -> #VALUE! | DP3: =AND(List1!F72,"AAAAAF9ps3c=") -> #VALUE! | DQ3: =IF(List1!#REF!,"AAAAAF9ps3g=",0) -> #REF! | DR3: =AND(List1!#REF!,"AAAAAF9ps3k=") -> #REF! | DS3: =AND(List1!#REF!,"AAAAAF9ps3o=") -> #REF! | DT3: =AND(List1!#REF!,"AAAAAF9ps3s=") -> #REF! | DU3: =AND(List1!#REF!,"AAAAAF9ps3w=") -> #REF! | DV3: =AND(List1!#REF!,"AAAAAF9ps30=") -> #REF! | DW3: =AND(List1!#REF!,"AAAAAF9ps34=") -> #REF! | DX3: =IF(List1!#REF!,"AAAAAF9ps38=",0) -> #REF! | DY3: =AND(List1!#REF!,"AAAAAF9ps4A=") -> #REF! | DZ3: =AND(List1!#REF!,"AAAAAF9ps4E=") -> #REF! | EA3: =AND(List1!#REF!,"AAAAAF9ps4I=") -> #REF! | EB3: =AND(List1!#REF!,"AAAAAF9ps4M=") -> #REF! | EC3: =AND(List1!#REF!,"AAAAAF9ps4Q=") -> #REF! | ED3: =AND(List1!#REF!,"AAAAAF9ps4U=") -> #REF! | EE3: =IF(List1!74:74,"AAAAAF9ps4Y=",0) -> 0 | EF3: =AND(List1!#REF!,"AAAAAF9ps4c=") -> #REF! | EG3: =AND(List1!#REF!,"AAAAAF9ps4g=") -> #REF! | EH3: =AND(List1!#REF!,"AAAAAF9ps4k=") -> #REF! | EI3: =AND(List1!#REF!,"AAAAAF9ps4o=") -> #REF! | EJ3: =AND(List1!#REF!,"AAAAAF9ps4s=") -> #REF! | EK3: =AND(List1!F74,"AAAAAF9ps4w=") -> #VALUE! | EL3: =IF(List1!78:78,"AAAAAF9ps40=",0) -> 0 | EM3: =AND(List1!A78,"AAAAAF9ps44=") -> #VALUE! | EN3: =AND(List1!B78,"AAAAAF9ps48=") -> #VALUE! | EO3: =AND(List1!C78,"AAAAAF9ps5A=") -> #VALUE! | EP3: =AND(List1!D78,"AAAAAF9ps5E=") -> #VALUE! | EQ3: =AND(List1!E78,"AAAAAF9ps5I=") -> #VALUE! | ER3: =AND(List1!F78,"AAAAAF9ps5M=") -> #VALUE! | ES3: =IF(List1!79:79,"AAAAAF9ps5Q=",0) -> 0 | ET3: =AND(List1!A79,"AAAAAF9ps5U=") -> #VALUE! | EU3: =AND(List1!B79,"AAAAAF9ps5Y=") -> #VALUE! | EV3: =AND(List1!C79,"AAAAAF9ps5c=") -> #VALUE! | EW3: =AND(List1!D79,"AAAAAF9ps5g=") -> #VALUE! | EX3: =AND(List1!E79,"AAAAAF9ps5k=") -> #VALUE! | EY3: =AND(List1!F79,"AAAAAF9ps5o=") -> #VALUE! | EZ3: =IF(List1!80:80,"AAAAAF9ps5s=",0) -> 0 | FA3: =AND(List1!A80,"AAAAAF9ps5w=") -> #VALUE! | FB3: =AND(List1!B80,"AAAAAF9ps50=") -> #VALUE! | FC3: =AND(List1!C80,"AAAAAF9ps54=") -> #VALUE! | FD3: =AND(List1!D80,"AAAAAF9ps58=") -> #VALUE! | FE3: =AND(List1!E80,"AAAAAF9ps6A=") -> #VALUE! | FF3: =AND(List1!F80,"AAAAAF9ps6E=") -> #VALUE! | FG3: =IF(List1!81:81,"AAAAAF9ps6I=",0) -> 0 | FH3: =AND(List1!A81,"AAAAAF9ps6M=") -> #VALUE! | FI3: =AND(List1!B81,"AAAAAF9ps6Q=") -> #VALUE! | FJ3: =AND(List1!C81,"AAAAAF9ps6U=") -> #VALUE! | FK3: =AND(List1!D81,"AAAAAF9ps6Y=") -> #VALUE! | FL3: =AND(List1!E81,"AAAAAF9ps6c=") -> #VALUE! | FM3: =AND(List1!F81,"AAAAAF9ps6g=") -> #VALUE! | FN3: =IF(List1!#REF!,"AAAAAF9ps6k=",0) -> #REF! | FO3: =AND(List1!#REF!,"AAAAAF9ps6o=") -> #REF! | FP3: =AND(List1!#REF!,"AAAAAF9ps6s=") -> #REF! | FQ3: =AND(List1!#REF!,"AAAAAF9ps6w=") -> #REF! | FR3: =AND(List1!#REF!,"AAAAAF9ps60=") -> #REF! | FS3: =AND(List1!#REF!,"AAAAAF9ps64=") -> #REF! | FT3: =AND(List1!#REF!,"AAAAAF9ps68=") -> #REF! | FU3: =IF(List1!#REF!,"AAAAAF9ps7A=",0) -> #REF! | FV3: =AND(List1!#REF!,"AAAAAF9ps7E=") -> #REF! | FW3: =AND(List1!#REF!,"AAAAAF9ps7I=") -> #REF! | FX3: =AND(List1!#REF!,"AAAAAF9ps7M=") -> #REF! | FY3: =AND(List1!#REF!,"AAAAAF9ps7Q=") -> #REF! | FZ3: =AND(List1!#REF!,"AAAAAF9ps7U=") -> #REF! | GA3: =AND(List1!#REF!,"AAAAAF9ps7Y=") -> #REF! | GB3: =IF(List1!#REF!,"AAAAAF9ps7c=",0) -> #REF! | GC3: =AND(List1!#REF!,"AAAAAF9ps7g=") -> #REF! | GD3: =AND(List1!#REF!,"AAAAAF9ps7k=") -> #REF! | GE3: =AND(List1!#REF!,"AAAAAF9ps7o=") -> #REF! | GF3: =AND(List1!#REF!,"AAAAAF9ps7s=") -> #REF! | GG3: =AND(List1!#REF!,"AAAAAF9ps7w=") -> #REF! | GH3: =AND(List1!#REF!,"AAAAAF9ps70=") -> #REF! | GI3: =IF(List1!#REF!,"AAAAAF9ps74=",0) -> #REF! | GJ3: =AND(List1!#REF!,"AAAAAF9ps78=") -> #REF! | GK3: =AND(List1!#REF!,"AAAAAF9ps8A=") -> #REF! | GL3: =AND(List1!#REF!,"AAAAAF9ps8E=") -> #REF! | GM3: =AND(List1!#REF!,"AAAAAF9ps8I=") -> #REF! | GN3: =AND(List1!#REF!,"AAAAAF9ps8M=") -> #REF! | GO3: =AND(List1!#REF!,"AAAAAF9ps8Q=") -> #REF! | GP3: =IF(List1!#REF!,"AAAAAF9ps8U=",0) -> #REF! | GQ3: =AND(List1!#REF!,"AAAAAF9ps8Y=") -> #REF! | GR3: =AND(List1!#REF!,"AAAAAF9ps8c=") -> #REF! | GS3: =AND(List1!#REF!,"AAAAAF9ps8g=") -> #REF! | GT3: =AND(List1!#REF!,"AAAAAF9ps8k=") -> #REF! | GU3: =AND(List1!#REF!,"AAAAAF9ps8o=") -> #REF! | GV3: =AND(List1!#REF!,"AAAAAF9ps8s=") -> #REF! | GW3: =IF(List1!#REF!,"AAAAAF9ps8w=",0) -> #REF! | GX3: =AND(List1!#REF!,"AAAAAF9ps80=") -> #REF! | GY3: =AND(List1!#REF!,"AAAAAF9ps84=") -> #REF! | GZ3: =AND(List1!#REF!,"AAAAAF9ps88=") -> #REF! | HA3: =AND(List1!#REF!,"AAAAAF9ps9A=") -> #REF! | HB3: =AND(List1!#REF!,"AAAAAF9ps9E=") -> #REF! | HC3: =AND(List1!#REF!,"AAAAAF9ps9I=") -> #REF! | HD3: =IF(List1!90:90,"AAAAAF9ps9M=",0) -> 0 | HE3: =AND(List1!A90,"AAAAAF9ps9Q=") -> #VALUE! | HF3: =AND(List1!B90,"AAAAAF9ps9U=") -> #VALUE! | HG3: =AND(List1!C90,"AAAAAF9ps9Y=") -> #VALUE! | HH3: =AND(List1!D90,"AAAAAF9ps9c=") -> #VALUE! | HI3: =AND(List1!E90,"AAAAAF9ps9g=") -> #VALUE! | HJ3: =AND(List1!F90,"AAAAAF9ps9k=") -> #VALUE! | HK3: =IF(List1!93:93,"AAAAAF9ps9o=",0) -> 0 | HL3: =AND(List1!A93,"AAAAAF9ps9s=") -> #VALUE! | HM3: =AND(List1!B93,"AAAAAF9ps9w=") -> #VALUE! | HN3: =AND(List1!C93,"AAAAAF9ps90=") -> #VALUE! | HO3: =AND(List1!D93,"AAAAAF9ps94=") -> #VALUE! | HP3: =AND(List1!E93,"AAAAAF9ps98=") -> #VALUE! | HQ3: =AND(List1!F93,"AAAAAF9ps+A=") -> #VALUE! | HR3: =IF(List1!94:94,"AAAAAF9ps+E=",0) -> 0 | HS3: =AND(List1!A94,"AAAAAF9ps+I=") -> #VALUE! | HT3: =AND(List1!B94,"AAAAAF9ps+M=") -> #VALUE! | HU3: =AND(List1!C94,"AAAAAF9ps+Q=") -> #VALUE! | HV3: =AND(List1!D94,"AAAAAF9ps+U=") -> #VALUE! | HW3: =AND(List1!E94,"AAAAAF9ps+Y=") -> #VALUE! | HX3: =AND(List1!F94,"AAAAAF9ps+c=") -> #VALUE! | HY3: =IF(List1!95:95,"AAAAAF9ps+g=",0) -> 0 | HZ3: =AND(List1!A95,"AAAAAF9ps+k=") -> #VALUE! | IA3: =AND(List1!B95,"AAAAAF9ps+o=") -> #VALUE! | IB3: =AND(List1!C95,"AAAAAF9ps+s=") -> #VALUE! | IC3: =AND(List1!D95,"AAAAAF9ps+w=") -> #VALUE! | ID3: =AND(List1!E95,"AAAAAF9ps+0=") -> #VALUE! | IE3: =AND(List1!F95,"AAAAAF9ps+4=") -> #VALUE! | IF3: =IF(List1!100:100,"AAAAAF9ps+8=",0) -> 0 | IG3: =AND(List1!A100,"AAAAAF9ps/A=") -> #VALUE! | IH3: =AND(List1!B100,"AAAAAF9ps/E=") -> #VALUE! | II3: =AND(List1!C100,"AAAAAF9ps/I=") -> #VALUE! | IJ3: =AND(List1!D100,"AAAAAF9ps/M=") -> #VALUE! | IK3: =AND(List1!E100,"AAAAAF9ps/Q=") -> #VALUE! | IL3: =AND(List1!F100,"AAAAAF9ps/U=") -> #VALUE! | IM3: =IF(List1!101:101,"AAAAAF9ps/Y=",0) -> 0 | IN3: =AND(List1!A101,"AAAAAF9ps/c=") -> #VALUE! | IO3: =AND(List1!B101,"AAAAAF9ps/g=") -> #VALUE! | IP3: =AND(List1!C101,"AAAAAF9ps/k=") -> #VALUE! | IQ3: =AND(List1!D101,"AAAAAF9ps/o=") -> #VALUE! | IR3: =AND(List1!E101,"AAAAAF9ps/s=") -> #VALUE! | IS3: =AND(List1!F101,"AAAAAF9ps/w=") -> #VALUE! | IT3: =IF(List1!105:105,"AAAAAF9ps/0=",0) -> 0 | IU3: =AND(List1!A105,"AAAAAF9ps/4=") -> #VALUE! | IV3: =AND(List1!B105,"AAAAAF9ps/8=") -> #VALUE!
A4: =AND(List1!C105,"AAAAAFv3+QA=") -> #VALUE! | B4: =AND(List1!D105,"AAAAAFv3+QE=") -> #VALUE! | C4: =AND(List1!E105,"AAAAAFv3+QI=") -> #VALUE! | D4: =AND(List1!F105,"AAAAAFv3+QM=") -> #VALUE! | E4: =IF(List1!106:106,"AAAAAFv3+QQ=",0) -> 0 | F4: =AND(List1!A106,"AAAAAFv3+QU=") -> #VALUE! | G4: =AND(List1!B106,"AAAAAFv3+QY=") -> #VALUE! | H4: =AND(List1!C106,"AAAAAFv3+Qc=") -> #VALUE! | I4: =AND(List1!D106,"AAAAAFv3+Qg=") -> #VALUE! | J4: =AND(List1!E106,"AAAAAFv3+Qk=") -> #VALUE! | K4: =AND(List1!F106,"AAAAAFv3+Qo=") -> #VALUE! | L4: =IF(List1!107:107,"AAAAAFv3+Qs=",0) -> 0 | M4: =AND(List1!A107,"AAAAAFv3+Qw=") -> #VALUE! | N4: =AND(List1!B107,"AAAAAFv3+Q0=") -> #VALUE! | O4: =AND(List1!C107,"AAAAAFv3+Q4=") -> #VALUE! | P4: =AND(List1!D107,"AAAAAFv3+Q8=") -> #VALUE! | Q4: =AND(List1!E107,"AAAAAFv3+RA=") -> #VALUE! | R4: =AND(List1!F107,"AAAAAFv3+RE=") -> #VALUE! | S4: =IF(List1!108:108,"AAAAAFv3+RI=",0) -> 0 | T4: =AND(List1!A108,"AAAAAFv3+RM=") -> #VALUE! | U4: =AND(List1!B108,"AAAAAFv3+RQ=") -> #VALUE! | V4: =AND(List1!C108,"AAAAAFv3+RU=") -> #VALUE! | W4: =IF(List1!B:B,"AAAAAFv3+RY=",0) -> 0 | X4: =IF(List1!C:C,"AAAAAFv3+Rc=",0) -> 0 | Y4: =IF(List1!D:D,"AAAAAFv3+Rg=",0) -> 0 | Z4: =IF(List1!E:E,"AAAAAFv3+Rk=",0) -> 0 | AA4: =IF(List1!F:F,"AAAAAFv3+Ro=",0) -> 0
A5: =IF(List1!1:1,"AAAAAD/+/QA=",0) -> #VALUE! | B5: =AND(List1!A1,"AAAAAD/+/QE=") -> #VALUE! | C5: =AND(List1!B1,"AAAAAD/+/QI=") -> #VALUE! | D5: =AND(List1!C1,"AAAAAD/+/QM=") -> #VALUE! | E5: =AND(List1!D1,"AAAAAD/+/QQ=") -> #VALUE! | F5: =AND(List1!E1,"AAAAAD/+/QU=") -> #VALUE! | G5: =AND(List1!F1,"AAAAAD/+/QY=") -> #VALUE! | H5: =AND(List1!G1,"AAAAAD/+/Qc=") -> #VALUE! | I5: =AND(List1!H1,"AAAAAD/+/Qg=") -> #VALUE! | J5: =IF(List1!2:2,"AAAAAD/+/Qk=",0) -> 0 | K5: =AND(List1!A2,"AAAAAD/+/Qo=") -> #VALUE! | L5: =AND(List1!B2,"AAAAAD/+/Qs=") -> #VALUE! | M5: =AND(List1!C2,"AAAAAD/+/Qw=") -> #VALUE! | N5: =AND(List1!D2,"AAAAAD/+/Q0=") -> #VALUE! | O5: =AND(List1!E2,"AAAAAD/+/Q4=") -> #VALUE! | P5: =AND(List1!F2,"AAAAAD/+/Q8=") -> #VALUE! | Q5: =AND(List1!G2,"AAAAAD/+/RA=") -> #VALUE! | R5: =AND(List1!H2,"AAAAAD/+/RE=") -> #VALUE! | S5: =IF(List1!3:3,"AAAAAD/+/RI=",0) -> 0 | T5: =AND(List1!A3,"AAAAAD/+/RM=") -> #VALUE! | U5: =AND(List1!B3,"AAAAAD/+/RQ=") -> #VALUE! | V5: =AND(List1!C3,"AAAAAD/+/RU=") -> #VALUE! | W5: =AND(List1!D3,"AAAAAD/+/RY=") -> #VALUE! | X5: =AND(List1!E3,"AAAAAD/+/Rc=") -> #VALUE! | Y5: =AND(List1!F3,"AAAAAD/+/Rg=") -> #VALUE! | Z5: =AND(List1!G3,"AAAAAD/+/Rk=") -> #VALUE! | AA5: =AND(List1!H3,"AAAAAD/+/Ro=") -> #VALUE! | AB5: =IF(List1!4:4,"AAAAAD/+/Rs=",0) -> 0 | AC5: =AND(List1!A4,"AAAAAD/+/Rw=") -> #VALUE! | AD5: =AND(List1!B4,"AAAAAD/+/R0=") -> #VALUE! | AE5: =AND(List1!C4,"AAAAAD/+/R4=") -> #VALUE! | AF5: =AND(List1!D4,"AAAAAD/+/R8=") -> #VALUE! | AG5: =AND(List1!E4,"AAAAAD/+/SA=") -> #VALUE! | AH5: =AND(List1!F4,"AAAAAD/+/SE=") -> #VALUE! | AI5: =AND(List1!G4,"AAAAAD/+/SI=") -> #VALUE! | AJ5: =AND(List1!H4,"AAAAAD/+/SM=") -> #VALUE! | AK5: =IF(List1!5:5,"AAAAAD/+/SQ=",0) -> 0 | AL5: =AND(List1!A5,"AAAAAD/+/SU=") -> #VALUE! | AM5: =AND(List1!B5,"AAAAAD/+/SY=") -> #VALUE! | AN5: =AND(List1!C5,"AAAAAD/+/Sc=") -> #VALUE! | AO5: =AND(List1!D5,"AAAAAD/+/Sg=") -> #VALUE! | AP5: =AND(List1!E5,"AAAAAD/+/Sk=") -> #VALUE! | AQ5: =AND(List1!F5,"AAAAAD/+/So=") -> #VALUE! | AR5: =AND(List1!G5,"AAAAAD/+/Ss=") -> #VALUE! | AS5: =AND(List1!H5,"AAAAAD/+/Sw=") -> #VALUE! | AT5: =IF(List1!6:6,"AAAAAD/+/S0=",0) -> 0 | AU5: =AND(List1!A6,"AAAAAD/+/S4=") -> #VALUE! | AV5: =AND(List1!B6,"AAAAAD/+/S8=") -> #VALUE! | AW5: =AND(List1!C6,"AAAAAD/+/TA=") -> #VALUE! | AX5: =AND(List1!D6,"AAAAAD/+/TE=") -> #VALUE! | AY5: =AND(List1!E6,"AAAAAD/+/TI=") -> #VALUE! | AZ5: =AND(List1!F6,"AAAAAD/+/TM=") -> #VALUE! | BA5: =AND(List1!G6,"AAAAAD/+/TQ=") -> #VALUE! | BB5: =AND(List1!H6,"AAAAAD/+/TU=") -> #VALUE! | BC5: =IF(List1!7:7,"AAAAAD/+/TY=",0) -> 0 | BD5: =AND(List1!A7,"AAAAAD/+/Tc=") -> #VALUE! | BE5: =AND(List1!B7,"AAAAAD/+/Tg=") -> #VALUE! | BF5: =AND(List1!C7,"AAAAAD/+/Tk=") -> #VALUE! | BG5: =AND(List1!D7,"AAAAAD/+/To=") -> #VALUE! | BH5: =AND(List1!E7,"AAAAAD/+/Ts=") -> #VALUE! | BI5: =AND(List1!F7,"AAAAAD/+/Tw=") -> #VALUE! | BJ5: =AND(List1!G7,"AAAAAD/+/T0=") -> #VALUE! | BK5: =AND(List1!H7,"AAAAAD/+/T4=") -> #VALUE! | BL5: =IF(List1!8:8,"AAAAAD/+/T8=",0) -> 0 | BM5: =AND(List1!A8,"AAAAAD/+/UA=") -> #VALUE! | BN5: =AND(List1!B8,"AAAAAD/+/UE=") -> #VALUE! | BO5: =AND(List1!C8,"AAAAAD/+/UI=") -> #VALUE! | BP5: =AND(List1!D8,"AAAAAD/+/UM=") -> #VALUE! | BQ5: =AND(List1!E8,"AAAAAD/+/UQ=") -> #VALUE! | BR5: =AND(List1!F8,"AAAAAD/+/UU=") -> #VALUE! | BS5: =AND(List1!G8,"AAAAAD/+/UY=") -> #VALUE! | BT5: =AND(List1!H8,"AAAAAD/+/Uc=") -> #VALUE! | BU5: =AND(List1!G9,"AAAAAD/+/Ug=") -> #VALUE! | BV5: =AND(List1!H9,"AAAAAD/+/Uk=") -> #VALUE! | BW5: =AND(List1!G10,"AAAAAD/+/Uo=") -> #VALUE! | BX5: =AND(List1!H10,"AAAAAD/+/Us=") -> #VALUE! | BY5: =AND(List1!G11,"AAAAAD/+/Uw=") -> #VALUE! | BZ5: =AND(List1!H11,"AAAAAD/+/U0=") -> #VALUE! | CA5: =AND(List1!G12,"AAAAAD/+/U4=") -> #VALUE! | CB5: =AND(List1!H12,"AAAAAD/+/U8=") -> #VALUE! | CC5: =AND(List1!G13,"AAAAAD/+/VA=") -> #VALUE! | CD5: =AND(List1!H13,"AAAAAD/+/VE=") -> #VALUE! | CE5: =AND(List1!G14,"AAAAAD/+/VI=") -> #VALUE! | CF5: =AND(List1!H14,"AAAAAD/+/VM=") -> #VALUE! | CG5: =AND(List1!G15,"AAAAAD/+/VQ=") -> #VALUE! | CH5: =AND(List1!H15,"AAAAAD/+/VU=") -> #VALUE! | CI5: =AND(List1!G16,"AAAAAD/+/VY=") -> #VALUE! | CJ5: =AND(List1!H16,"AAAAAD/+/Vc=") -> #VALUE! | CK5: =AND(List1!G17,"AAAAAD/+/Vg=") -> #VALUE! | CL5: =AND(List1!H17,"AAAAAD/+/Vk=") -> #VALUE! | CM5: =AND(List1!G18,"AAAAAD/+/Vo=") -> #VALUE! | CN5: =AND(List1!H18,"AAAAAD/+/Vs=") -> #VALUE! | CO5: =AND(List1!G19,"AAAAAD/+/Vw=") -> #VALUE! | CP5: =AND(List1!H19,"AAAAAD/+/V0=") -> #VALUE! | CQ5: =AND(List1!G20,"AAAAAD/+/V4=") -> #VALUE! | CR5: =AND(List1!H20,"AAAAAD/+/V8=") -> #VALUE! | CS5: =AND(List1!G21,"AAAAAD/+/WA=") -> #VALUE! | CT5: =AND(List1!H21,"AAAAAD/+/WE=") -> #VALUE! | CU5: =AND(List1!G22,"AAAAAD/+/WI=") -> #VALUE! | CV5: =AND(List1!H22,"AAAAAD/+/WM=") -> #VALUE! | CW5: =AND(List1!G23,"AAAAAD/+/WQ=") -> #VALUE! | CX5: =AND(List1!H23,"AAAAAD/+/WU=") -> #VALUE! | CY5: =AND(List1!G24,"AAAAAD/+/WY=") -> #VALUE! | CZ5: =AND(List1!H24,"AAAAAD/+/Wc=") -> #VALUE! | DA5: =AND(List1!G25,"AAAAAD/+/Wg=") -> #VALUE! | DB5: =AND(List1!H25,"AAAAAD/+/Wk=") -> #VALUE! | DC5: =AND(List1!G26,"AAAAAD/+/Wo=") -> #VALUE! | DD5: =AND(List1!H26,"AAAAAD/+/Ws=") -> #VALUE! | DE5: =AND(List1!G27,"AAAAAD/+/Ww=") -> #VALUE! | DF5: =AND(List1!H27,"AAAAAD/+/W0=") -> #VALUE! | DG5: =AND(List1!G28,"AAAAAD/+/W4=") -> #VALUE! | DH5: =AND(List1!H28,"AAAAAD/+/W8=") -> #VALUE! | DI5: =AND(List1!G29,"AAAAAD/+/XA=") -> #VALUE! | DJ5: =AND(List1!H29,"AAAAAD/+/XE=") -> #VALUE! | DK5: =AND(List1!G30,"AAAAAD/+/XI=") -> #VALUE! | DL5: =AND(List1!H30,"AAAAAD/+/XM=") -> #VALUE! | DM5: =AND(List1!G31,"AAAAAD/+/XQ=") -> #VALUE! | DN5: =AND(List1!H31,"AAAAAD/+/XU=") -> #VALUE! | DO5: =AND(List1!G32,"AAAAAD/+/XY=") -> #VALUE! | DP5: =AND(List1!H32,"AAAAAD/+/Xc=") -> #VALUE! | DQ5: =AND(List1!G33,"AAAAAD/+/Xg=") -> #VALUE! | DR5: =AND(List1!H33,"AAAAAD/+/Xk=") -> #VALUE! | DS5: =AND(List1!G34,"AAAAAD/+/Xo=") -> #VALUE! | DT5: =AND(List1!H34,"AAAAAD/+/Xs=") -> #VALUE! | DU5: =AND(List1!G35,"AAAAAD/+/Xw=") -> #VALUE! | DV5: =AND(List1!H35,"AAAAAD/+/X0=") -> #VALUE! | DW5: =AND(List1!G36,"AAAAAD/+/X4=") -> #VALUE! | DX5: =AND(List1!H36,"AAAAAD/+/X8=") -> #VALUE! | DY5: =AND(List1!G37,"AAAAAD/+/YA=") -> #VALUE! | DZ5: =AND(List1!H37,"AAAAAD/+/YE=") -> #VALUE! | EA5: =AND(List1!G38,"AAAAAD/+/YI=") -> #VALUE! | EB5: =AND(List1!H38,"AAAAAD/+/YM=") -> #VALUE! | EC5: =AND(List1!G39,"AAAAAD/+/YQ=") -> #VALUE! | ED5: =AND(List1!H39,"AAAAAD/+/YU=") -> #VALUE! | EE5: =AND(List1!G40,"AAAAAD/+/YY=") -> #VALUE! | EF5: =AND(List1!H40,"AAAAAD/+/Yc=") -> #VALUE! | EG5: =AND(List1!G41,"AAAAAD/+/Yg=") -> #VALUE! | EH5: =AND(List1!H41,"AAAAAD/+/Yk=") -> #VALUE! | EI5: =AND(List1!G42,"AAAAAD/+/Yo=") -> #VALUE! | EJ5: =AND(List1!H42,"AAAAAD/+/Ys=") -> #VALUE! | EK5: =IF(List1!43:43,"AAAAAD/+/Yw=",0) -> 0 | EL5: =AND(List1!A43,"AAAAAD/+/Y0=") -> #VALUE! | EM5: =AND(List1!B43,"AAAAAD/+/Y4=") -> #VALUE! | EN5: =AND(List1!C43,"AAAAAD/+/Y8=") -> #VALUE! | EO5: =AND(List1!D43,"AAAAAD/+/ZA=") -> #VALUE! | EP5: =AND(List1!E43,"AAAAAD/+/ZE=") -> #VALUE! | EQ5: =AND(List1!F43,"AAAAAD/+/ZI=") -> #VALUE! | ER5: =AND(List1!G43,"AAAAAD/+/ZM=") -> #VALUE! | ES5: =AND(List1!H43,"AAAAAD/+/ZQ=") -> #VALUE! | ET5: =IF(List1!44:44,"AAAAAD/+/ZU=",0) -> 0 | EU5: =AND(List1!A44,"AAAAAD/+/ZY=") -> #VALUE! | EV5: =AND(List1!B44,"AAAAAD/+/Zc=") -> #VALUE! | EW5: =AND(List1!C44,"AAAAAD/+/Zg=") -> #VALUE! | EX5: =AND(List1!D44,"AAAAAD/+/Zk=") -> #VALUE! | EY5: =AND(List1!E44,"AAAAAD/+/Zo=") -> #VALUE! | EZ5: =AND(List1!F44,"AAAAAD/+/Zs=") -> #VALUE! | FA5: =AND(List1!G44,"AAAAAD/+/Zw=") -> #VALUE! | FB5: =AND(List1!H44,"AAAAAD/+/Z0=") -> #VALUE! | FC5: =IF(List1!45:45,"AAAAAD/+/Z4=",0) -> 0 | FD5: =AND(List1!A45,"AAAAAD/+/Z8=") -> #VALUE! | FE5: =AND(List1!B45,"AAAAAD/+/aA=") -> #VALUE! | FF5: =AND(List1!C45,"AAAAAD/+/aE=") -> #VALUE! | FG5: =AND(List1!D45,"AAAAAD/+/aI=") -> #VALUE! | FH5: =AND(List1!E45,"AAAAAD/+/aM=") -> #VALUE! | FI5: =AND(List1!F45,"AAAAAD/+/aQ=") -> #VALUE! | FJ5: =AND(List1!G45,"AAAAAD/+/aU=") -> #VALUE! | FK5: =AND(List1!H45,"AAAAAD/+/aY=") -> #VALUE! | FL5: =IF(List1!46:46,"AAAAAD/+/ac=",0) -> 0 | FM5: =AND(List1!A46,"AAAAAD/+/ag=") -> #VALUE! | FN5: =AND(List1!B46,"AAAAAD/+/ak=") -> #VALUE! | FO5: =AND(List1!C46,"AAAAAD/+/ao=") -> #VALUE! | FP5: =AND(List1!D46,"AAAAAD/+/as=") -> #VALUE! | FQ5: =AND(List1!E46,"AAAAAD/+/aw=") -> #VALUE! | FR5: =AND(List1!F46,"AAAAAD/+/a0=") -> #VALUE! | FS5: =AND(List1!G46,"AAAAAD/+/a4=") -> #VALUE! | FT5: =AND(List1!H46,"AAAAAD/+/a8=") -> #VALUE! | FU5: =IF(List1!47:47,"AAAAAD/+/bA=",0) -> 0 | FV5: =AND(List1!B47,"AAAAAD/+/bE=") -> #VALUE! | FW5: =AND(List1!C47,"AAAAAD/+/bI=") -> #VALUE! | FX5: =AND(List1!D47,"AAAAAD/+/bM=") -> #VALUE! | FY5: =AND(List1!E47,"AAAAAD/+/bQ=") -> #VALUE! | FZ5: =AND(List1!F47,"AAAAAD/+/bU=") -> #VALUE! | GA5: =AND(List1!G47,"AAAAAD/+/bY=") -> #VALUE! | GB5: =AND(List1!H47,"AAAAAD/+/bc=") -> #VALUE! | GC5: =AND(List1!A48,"AAAAAD/+/bg=") -> #VALUE! | GD5: =AND(List1!G48,"AAAAAD/+/bk=") -> #VALUE! | GE5: =AND(List1!H48,"AAAAAD/+/bo=") -> #VALUE! | GF5: =AND(List1!G49,"AAAAAD/+/bs=") -> #VALUE! | GG5: =AND(List1!H49,"AAAAAD/+/bw=") -> #VALUE! | GH5: =AND(List1!G50,"AAAAAD/+/b0=") -> #VALUE! | GI5: =AND(List1!H50,"AAAAAD/+/b4=") -> #VALUE! | GJ5: =AND(List1!G51,"AAAAAD/+/b8=") -> #VALUE! | GK5: =AND(List1!H51,"AAAAAD/+/cA=") -> #VALUE! | GL5: =AND(List1!G52,"AAAAAD/+/cE=") -> #VALUE! | GM5: =AND(List1!H52,"AAAAAD/+/cI=") -> #VALUE! | GN5: =AND(List1!G53,"AAAAAD/+/cM=") -> #VALUE! | GO5: =AND(List1!H53,"AAAAAD/+/cQ=") -> #VALUE! | GP5: =AND(List1!G54,"AAAAAD/+/cU=") -> #VALUE! | GQ5: =AND(List1!H54,"AAAAAD/+/cY=") -> #VALUE! | GR5: =AND(List1!G61,"AAAAAD/+/cc=") -> #VALUE! | GS5: =AND(List1!H61,"AAAAAD/+/cg=") -> #VALUE! | GT5: =AND(List1!G62,"AAAAAD/+/ck=") -> #VALUE! | GU5: =AND(List1!H62,"AAAAAD/+/co=") -> #VALUE! | GV5: =AND(List1!G63,"AAAAAD/+/cs=") -> #VALUE! | GW5: =AND(List1!H63,"AAAAAD/+/cw=") -> #VALUE! | GX5: =AND(List1!G64,"AAAAAD/+/c0=") -> #VALUE! | GY5: =AND(List1!H64,"AAAAAD/+/c4=") -> #VALUE! | GZ5: =AND(List1!G65,"AAAAAD/+/c8=") -> #VALUE! | HA5: =AND(List1!H65,"AAAAAD/+/dA=") -> #VALUE! | HB5: =AND(List1!G66,"AAAAAD/+/dE=") -> #VALUE! | HC5: =AND(List1!H66,"AAAAAD/+/dI=") -> #VALUE! | HD5: =AND(List1!G67,"AAAAAD/+/dM=") -> #VALUE! | HE5: =AND(List1!H67,"AAAAAD/+/dQ=") -> #VALUE! | HF5: =AND(List1!G68,"AAAAAD/+/dU=") -> #VALUE! | HG5: =AND(List1!H68,"AAAAAD/+/dY=") -> #VALUE! | HH5: =AND(List1!G69,"AAAAAD/+/dc=") -> #VALUE! | HI5: =AND(List1!H69,"AAAAAD/+/dg=") -> #VALUE! | HJ5: =AND(List1!G70,"AAAAAD/+/dk=") -> #VALUE! | HK5: =AND(List1!H70,"AAAAAD/+/do=") -> #VALUE! | HL5: =AND(List1!G71,"AAAAAD/+/ds=") -> #VALUE! | HM5: =AND(List1!H71,"AAAAAD/+/dw=") -> #VALUE! | HN5: =AND(List1!G72,"AAAAAD/+/d0=") -> #VALUE! | HO5: =AND(List1!H72,"AAAAAD/+/d4=") -> #VALUE! | HP5: =AND(List1!#REF!,"AAAAAD/+/d8=") -> #REF! | HQ5: =AND(List1!#REF!,"AAAAAD/+/eA=") -> #REF! | HR5: =AND(List1!#REF!,"AAAAAD/+/eE=") -> #REF! | HS5: =AND(List1!#REF!,"AAAAAD/+/eI=") -> #REF! | HT5: =IF(List1!73:73,"AAAAAD/+/eM=",0) -> 0 | HU5: =AND(List1!A73,"AAAAAD/+/eQ=") -> #VALUE! | HV5: =AND(List1!B73,"AAAAAD/+/eU=") -> #VALUE! | HW5: =AND(List1!C73,"AAAAAD/+/eY=") -> #VALUE! | HX5: =AND(List1!D73,"AAAAAD/+/ec=") -> #VALUE! | HY5: =AND(List1!E73,"AAAAAD/+/eg=") -> #VALUE! | HZ5: =AND(List1!F73,"AAAAAD/+/ek=") -> #VALUE! | IA5: =AND(List1!G73,"AAAAAD/+/eo=") -> #VALUE! | IB5: =AND(List1!H73,"AAAAAD/+/es=") -> #VALUE! | IC5: =AND(List1!A74,"AAAAAD/+/ew=") -> #VALUE! | ID5: =AND(List1!B74,"AAAAAD/+/e0=") -> #VALUE! | IE5: =AND(List1!C74,"AAAAAD/+/e4=") -> #VALUE! | IF5: =AND(List1!D74,"AAAAAD/+/e8=") -> #VALUE! | IG5: =AND(List1!E74,"AAAAAD/+/fA=") -> #VALUE! | IH5: =AND(List1!G74,"AAAAAD/+/fE=") -> #VALUE! | II5: =AND(List1!H74,"AAAAAD/+/fI=") -> #VALUE! | IJ5: =IF(List1!75:75,"AAAAAD/+/fM=",0) -> 0 | IK5: =AND(List1!A75,"AAAAAD/+/fQ=") -> #VALUE! | IL5: =AND(List1!B75,"AAAAAD/+/fU=") -> #VALUE! | IM5: =AND(List1!C75,"AAAAAD/+/fY=") -> #VALUE! | IN5: =AND(List1!D75,"AAAAAD/+/fc=") -> #VALUE! | IO5: =AND(List1!E75,"AAAAAD/+/fg=") -> #VALUE! | IP5: =AND(List1!F75,"AAAAAD/+/fk=") -> #VALUE! | IQ5: =AND(List1!G75,"AAAAAD/+/fo=") -> #VALUE! | IR5: =AND(List1!H75,"AAAAAD/+/fs=") -> #VALUE! | IS5: =IF(List1!76:76,"AAAAAD/+/fw=",0) -> 0 | IT5: =AND(List1!A76,"AAAAAD/+/f0=") -> #VALUE! | IU5: =AND(List1!B76,"AAAAAD/+/f4=") -> #VALUE! | IV5: =AND(List1!C76,"AAAAAD/+/f8=") -> #VALUE!
A6: =AND(List1!D76,"AAAAAHp+8wA=") -> #VALUE! | B6: =AND(List1!E76,"AAAAAHp+8wE=") -> #VALUE! | C6: =AND(List1!F76,"AAAAAHp+8wI=") -> #VALUE! | D6: =AND(List1!G76,"AAAAAHp+8wM=") -> #VALUE! | E6: =AND(List1!H76,"AAAAAHp+8wQ=") -> #VALUE! | F6: =IF(List1!77:77,"AAAAAHp+8wU=",0) -> 0 | G6: =AND(List1!A77,"AAAAAHp+8wY=") -> #VALUE! | H6: =AND(List1!B77,"AAAAAHp+8wc=") -> #VALUE! | I6: =AND(List1!C77,"AAAAAHp+8wg=") -> #VALUE! | J6: =AND(List1!D77,"AAAAAHp+8wk=") -> #VALUE! | K6: =AND(List1!E77,"AAAAAHp+8wo=") -> #VALUE! | L6: =AND(List1!F77,"AAAAAHp+8ws=") -> #VALUE! | M6: =AND(List1!G77,"AAAAAHp+8ww=") -> #VALUE! | N6: =AND(List1!H77,"AAAAAHp+8w0=") -> #VALUE! | O6: =AND(List1!G78,"AAAAAHp+8w4=") -> #VALUE! | P6: =AND(List1!H78,"AAAAAHp+8w8=") -> #VALUE! | Q6: =AND(List1!G79,"AAAAAHp+8xA=") -> #VALUE! | R6: =AND(List1!H79,"AAAAAHp+8xE=") -> #VALUE! | S6: =AND(List1!G80,"AAAAAHp+8xI=") -> #VALUE! | T6: =AND(List1!H80,"AAAAAHp+8xM=") -> #VALUE! | U6: =AND(List1!G81,"AAAAAHp+8xQ=") -> #VALUE! | V6: =AND(List1!H81,"AAAAAHp+8xU=") -> #VALUE! | W6: =AND(List1!#REF!,"AAAAAHp+8xY=") -> #REF! | X6: =AND(List1!#REF!,"AAAAAHp+8xc=") -> #REF! | Y6: =AND(List1!#REF!,"AAAAAHp+8xg=") -> #REF! | Z6: =AND(List1!#REF!,"AAAAAHp+8xk=") -> #REF! | AA6: =AND(List1!#REF!,"AAAAAHp+8xo=") -> #REF! | AB6: =AND(List1!#REF!,"AAAAAHp+8xs=") -> #REF! | AC6: =AND(List1!#REF!,"AAAAAHp+8xw=") -> #REF! | AD6: =AND(List1!#REF!,"AAAAAHp+8x0=") -> #REF! | AE6: =AND(List1!#REF!,"AAAAAHp+8x4=") -> #REF! | AF6: =AND(List1!#REF!,"AAAAAHp+8x8=") -> #REF! | AG6: =AND(List1!#REF!,"AAAAAHp+8yA=") -> #REF! | AH6: =AND(List1!#REF!,"AAAAAHp+8yE=") -> #REF! | AI6: =AND(List1!G90,"AAAAAHp+8yI=") -> #VALUE! | AJ6: =AND(List1!H90,"AAAAAHp+8yM=") -> #VALUE! | AK6: =IF(List1!91:91,"AAAAAHp+8yQ=",0) -> 0 | AL6: =AND(List1!A91,"AAAAAHp+8yU=") -> #VALUE! | AM6: =AND(List1!B91,"AAAAAHp+8yY=") -> #VALUE! | AN6: =AND(List1!C91,"AAAAAHp+8yc=") -> #VALUE! | AO6: =AND(List1!D91,"AAAAAHp+8yg=") -> #VALUE! | AP6: =AND(List1!E91,"AAAAAHp+8yk=") -> #VALUE! | AQ6: =AND(List1!F91,"AAAAAHp+8yo=") -> #VALUE! | AR6: =AND(List1!G91,"AAAAAHp+8ys=") -> #VALUE! | AS6: =AND(List1!H91,"AAAAAHp+8yw=") -> #VALUE! | AT6: =IF(List1!92:92,"AAAAAHp+8y0=",0) -> 0 | AU6: =AND(List1!A92,"AAAAAHp+8y4=") -> #VALUE! | AV6: =AND(List1!B92,"AAAAAHp+8y8=") -> #VALUE! | AW6: =AND(List1!C92,"AAAAAHp+8zA=") -> #VALUE! | AX6: =AND(List1!D92,"AAAAAHp+8zE=") -> #VALUE! | AY6: =AND(List1!E92,"AAAAAHp+8zI=") -> #VALUE! | AZ6: =AND(List1!F92,"AAAAAHp+8zM=") -> #VALUE! | BA6: =AND(List1!G92,"AAAAAHp+8zQ=") -> #VALUE! | BB6: =AND(List1!H92,"AAAAAHp+8zU=") -> #VALUE! | BC6: =AND(List1!G93,"AAAAAHp+8zY=") -> #VALUE! | BD6: =AND(List1!H93,"AAAAAHp+8zc=") -> #VALUE! | BE6: =AND(List1!G94,"AAAAAHp+8zg=") -> #VALUE! | BF6: =AND(List1!H94,"AAAAAHp+8zk=") -> #VALUE! | BG6: =AND(List1!G95,"AAAAAHp+8zo=") -> #VALUE! | BH6: =AND(List1!H95,"AAAAAHp+8zs=") -> #VALUE! | BI6: =AND(List1!G100,"AAAAAHp+8zw=") -> #VALUE! | BJ6: =AND(List1!H100,"AAAAAHp+8z0=") -> #VALUE! | BK6: =AND(List1!G101,"AAAAAHp+8z4=") -> #VALUE! | BL6: =AND(List1!H101,"AAAAAHp+8z8=") -> #VALUE! | BM6: =AND(List1!D108,"AAAAAHp+80A=") -> #VALUE! | BN6: =AND(List1!E108,"AAAAAHp+80E=") -> #VALUE! | BO6: =IF(List1!109:109,"AAAAAHp+80I=",0) -> 0 | BP6: =AND(List1!A109,"AAAAAHp+80M=") -> #VALUE! | BQ6: =AND(List1!B109,"AAAAAHp+80Q=") -> #VALUE! | BR6: =AND(List1!C109,"AAAAAHp+80U=") -> #VALUE! | BS6: =AND(List1!D109,"AAAAAHp+80Y=") -> #VALUE! | BT6: =AND(List1!E109,"AAAAAHp+80c=") -> #VALUE! | BU6: =IF(List1!110:110,"AAAAAHp+80g=",0) -> 0 | BV6: =AND(List1!A110,"AAAAAHp+80k=") -> #VALUE! | BW6: =AND(List1!B110,"AAAAAHp+80o=") -> #VALUE! | BX6: =AND(List1!C110,"AAAAAHp+80s=") -> #VALUE! | BY6: =AND(List1!D110,"AAAAAHp+80w=") -> #VALUE! | BZ6: =AND(List1!E110,"AAAAAHp+800=") -> #VALUE! | CA6: =IF(List1!111:111,"AAAAAHp+804=",0) -> 0 | CB6: =AND(List1!A111,"AAAAAHp+808=") -> #VALUE! | CC6: =AND(List1!B111,"AAAAAHp+81A=") -> #VALUE! | CD6: =AND(List1!C111,"AAAAAHp+81E=") -> #VALUE! | CE6: =AND(List1!D111,"AAAAAHp+81I=") -> #VALUE! | CF6: =AND(List1!E111,"AAAAAHp+81M=") -> #VALUE! | CG6: =IF(List1!G:G,"AAAAAHp+81Q=",0) -> 0 | CH6: =IF(List1!H:H,"AAAAAHp+81U=",0) -> 0 | CI6: =IF("N",List1!_xlnm.Print_Area,"AAAAAHp+81Y=") -> #VALUE!
A7: =IF("N",List1!_xlnm.Print_Area,"AAAAAH633wA=") -> #VALUE!
