Workbook

Sheet mlzne-1
A1: Závod ve sportovní gymnastice žákyň | D1: PRAHA OPEN 2014 | G1: 41767
A2: Kategorie: | B2: Mladší žákyně I
C3: Gymnastika | K3: Šplh
A4: Pořadí jednotlivci | B4: Jméno | C4: Jednota | D4: akrobacie | E4: hrazda | F4: kladina | G4: přeskok | H4: Celkem Jednotlivci | J4: Pořadí jednotlivci | K4: Jméno | L4: Jednota | M4: Čas
A5: 1. | B5: Procházková Veronika | C5: Sokol Radotín | D5: 9.15 | E5: 9.2 | F5: 9.5 | G5: 8.65 | H5: =SUM(D5:G5) -> 36.5 | J5: 1. | K5: Víšková Ester | L5: Sokol Vyšehrad | M5: 2.24
A6: 2. | B6: Mahelková Anna | C6: Gym Club REDA | D6: 8.85 | E6: 9.2 | F6: 9.5 | G6: 8.75 | H6: =SUM(D6:G6) -> 36.3 | J6: 2. | K6: Požárová Sandra | L6: Sokol Hlubočepy | M6: 2.69
A7: 2. | B7: Ondráčková Adéla | C7: Gym Club REDA | D7: 9.05 | E7: 9.1 | F7: 9.3 | G7: 8.85 | H7: =SUM(D7:G7) -> 36.3 | J7: 3. | K7: Ondráčková Adéla | L7: Gym Club REDA | M7: 2.74
A8: 3. | B8: Sobotková Sára | C8: SK Velká Ohrada | D8: 8.8 | E8: 9 | F8: 9.3 | G8: 8.75 | H8: =SUM(D8:G8) -> 35.85 | J8: 4. | K8: Procházková Veronika | L8: Sokol Radotín | M8: 3.07
A9: 4. | B9: Martinová Marie | C9: Sokol Radotín | D9: 8.7 | E9: 8.9 | F9: 9.05 | G9: 8.95 | H9: =SUM(D9:G9) -> 35.6 | J9: 5. | K9: Ševčíková Tereza | L9: Sokol Vršovice | M9: 3.3
A10: 5. | B10: Víšková Ester | C10: Sokol Vyšehrad | D10: 8.75 | E10: 8.9 | F10: 9.05 | G10: 8.75 | H10: =SUM(D10:G10) -> 35.45 | J10: 6. | K10: Sobotková Sára | L10: SK Velká Ohrada | M10: 3.48
A11: 6. | B11: Kopecká Anděla | C11: Sokol Radotín | D11: 8.45 | E11: 8.55 | F11: 9.4 | G11: 8.8 | H11: =SUM(D11:G11) -> 35.2 | J11: 7. | K11: DörreováSarah | L11: Gym Club REDA | M11: 3.65
A12: 7. | B12: Hlaváčková Lucie | C12: Sokol Radotín | D12: 8.15 | E12: 8.65 | F12: 9.3 | G12: 8.7 | H12: =SUM(D12:G12) -> 34.8 | J12: 8. | K12: Mahelková Anna | L12: Gym Club REDA | M12: 3.66
A13: 8. | B13: DörreováSarah | C13: Gym Club REDA | D13: 7.65 | E13: 8.65 | F13: 9.4 | G13: 9.05 | H13: =SUM(D13:G13) -> 34.75 | J13: 9. | K13: Kafková Jana | L13: Sokol Vyšehrad | M13: 3.72
A14: 9. | B14: Kratochvílová Kristýna | C14: Sokol Radotín | D14: 8.5 | E14: 8.25 | F14: 8.95 | G14: 9 | H14: =SUM(D14:G14) -> 34.7 | J14: 10. | K14: Bedrníková Hana | L14: Sokol Kunratice | M14: 3.78
A15: 10. | B15: Hofmanová Radka | C15: Sokol Libeň | D15: 8 | E15: 8.75 | F15: 8.7 | G15: 9.05 | H15: =SUM(D15:G15) -> 34.5 | J15: 11. | K15: Hofmanová Radka | L15: Sokol Libeň | M15: 4
A16: 11. | B16: Štěpánková Jitka | C16: Gym Club REDA | D16: 9 | E16: 7.9 | F16: 9.35 | G16: 8.25 | H16: =SUM(D16:G16) -> 34.5 | J16: 12. | K16: Požárová Tereza | L16: Sokol Hlubočepy | M16: 4.04
... A45: 40. | B45: Poláková Julie | C45: Sokol Motol | D45: 6.1 | E45: 7.4 | F45: 8.25 | G45: 7.85 | H45: =SUM(D45:G45) -> 29.6 | J45: 40.-41. | K45: Štěpánková Jitka | L45: Gym Club REDA | M45: 9.67
A46: 41. | B46: Trejbalová Jana | C46: Sokol Hanspaulka | D46: 6.5 | E46: 7.1 | F46: 6.9 | G46: 7.5 | H46: =SUM(D46:G46) -> 28 | K46: Hovorková Aneta | L46: Sokol Hlubočepy
A47: 42. | B47: Sussemilchová Tereza | C47: Sokol Hanspaulka | D47: 5.75 | E47: 7.25 | F47: 6.85 | G47: 7.25 | H47: =SUM(D47:G47) -> 27.1 | K47: Bašusová Kristýna | L47: Sokol Hlubočepy

Sheet mlzne-2
A1: =('mlzne-1'!A1) -> Závod ve sportovní gymnastice žákyň | D1: =('mlzne-1'!D1) -> PRAHA OPEN 2014 | G1: ='mlzne-1'!G1 -> 41767
A2: Kategorie: | B2: Mladší žákyně II
C3: Gymnastika | K3: Šplh
A4: Pořadí jednotlivci | B4: Jméno | C4: Jednota | D4: akrobacie | E4: hrazda | F4: kladina | G4: přeskok | H4: Celkem Jednotlivci | J4: Pořadí jednotlivci | K4: Jméno | L4: Jednota | M4: Čas
A5: 1. | B5: Schwarzová Rozálie | C5: SK Velká Ohrada | D5: 9.3 | E5: 9.4 | F5: 9.25 | G5: 9 | H5: =SUM(D5:G5) -> 36.95 | J5: 1. | K5: Berková Lucie | L5: Sokol Hlubočepy | M5: 5.49
A6: 2. | B6: Víchová Naneta | C6: SK Velká Ohrada | D6: 9.1 | E6: 9.1 | F6: 9.25 | G6: 8.8 | H6: =SUM(D6:G6) -> 36.25 | J6: 2. | K6: Schwarzová Rozálie | L6: SK Velká Ohrada | M6: 5.6
A7: 3. | B7: Síbová Amálie | C7: Sokol Královské Vinohrady | D7: 9.2 | E7: 9 | F7: 9 | G7: 8.9 | H7: =SUM(D7:G7) -> 36.1 | J7: 3. | K7: Zýková Anna | L7: Sokol Kunratice | M7: 6.15
A8: 4. | B8: Fulínová Anna | C8: Sokol Královské Vinohrady | D8: 9.1 | E8: 9.05 | F8: 9 | G8: 8.7 | H8: =SUM(D8:G8) -> 35.85 | J8: 4. | K8: Jedličková Marika | L8: Sokol Kunratice | M8: 6.55
A9: 5. | B9: Procházková Julie | C9: Sokol Radotín | D9: 8.85 | E9: 9.1 | F9: 9.1 | G9: 8.75 | H9: =SUM(D9:G9) -> 35.8 | J9: 5. | K9: Fulínová Anna | L9: Sokol Královské Vinohrady | M9: 6.68
A10: 6. | B10: Jedličková Marika | C10: Sokol Kunratice | D10: 8.5 | E10: 9.3 | F10: 8.7 | G10: 9.2 | H10: =SUM(D10:G10) -> 35.7 | J10: 6. | K10: Síbová Amálie | L10: Sokol Královské Vinohrady | M10: 7.37
A11: 7. | B11: Švehlová Kateřina | C11: Sokol Vršovice | D11: 8.65 | E11: 8.95 | F11: 8.55 | G11: 8.65 | H11: =SUM(D11:G11) -> 34.8 | J11: 7. | K11: Dohnalová Barbora | L11: Sokol Libeň | M11: 7.4
A12: 8. | B12: Süsová Kateřina | C12: Gym Club REDA | D12: 8.65 | E12: 8.35 | F12: 8.7 | G12: 8.8 | H12: =SUM(D12:G12) -> 34.5 | J12: 8. | K12: Pavlová Hana | L12: Sokol Radotín | M12: 7.42
A13: 9. | B13: Filipiová Anna | C13: Sokol Královské Vinohrady | D13: 8.7 | E13: 8.55 | F13: 8.55 | G13: 8.5 | H13: =SUM(D13:G13) -> 34.3 | J13: 9. | K13: Smrčková Anna | L13: Sokol Hlubočepy | M13: 7.66
A14: 10. | B14: Poláková Sára | C14: Sokol Radotín | D14: 8.65 | E14: 8.3 | F14: 8.5 | G14: 8.75 | H14: =SUM(D14:G14) -> 34.2 | J14: 10. | K14: Švehlová Kateřina | L14: Sokol Vršovice | M14: 7.97
A15: 11. | B15: Zýková Anna | C15: Sokol Kunratice | D15: 8.4 | E15: 8.1 | F15: 8.65 | G15: 8.85 | H15: =SUM(D15:G15) -> 34 | J15: 11. | K15: Šebestová Nela | L15: TJ ÚVN | M15: 8.21
A16: 12. | B16: Pavlová Hana | C16: Sokol Radotín | D16: 8.4 | E16: 8.4 | F16: 8.65 | G16: 8.5 | H16: =SUM(D16:G16) -> 33.95 | J16: 12. | K16: Procházková Julie | L16: Sokol Radotín | M16: 8.24
... A31: 27. | B31: Kličková Kateřina | C31: Sokol Braník | D31: 5.4 | E31: 8.45 | F31: 7.9 | G31: 7.2 | H31: =SUM(D31:G31) -> 28.95 | J31: 27. | K31: Kličková Kateřina | L31: Sokol Braník | M31: 99

Sheet strzne-3
A1: Závod ve sportovní gymnastice žákyň | D1: =('mlzne-1'!D1) -> PRAHA OPEN 2014 | G1: ='mlzne-1'!G1 -> 41767
A2: Kategorie: | B2: Starší žákyně III
C3: Gymnastika | K3: Šplh
A4: Pořadí jednotlivci | B4: Jméno | C4: Jednota | D4: akrobacie | E4: hrazda | F4: kladina | G4: přeskok | H4: Celkem Jednotlivci | J4: Pořadí jednotlivci | K4: Jméno | L4: Jednota | M4: Čas
A5: 1. | B5: Vránová Anna | C5: SK Velká Ohrada | D5: 9.1 | E5: 9 | F5: 9.25 | G5: 8.9 | H5: =SUM(D5:G5) -> 36.25 | J5: 1. | K5: Fraňková Kateřina | L5: TJ ÚVN | M5: 5.33
A6: 2. | B6: Šindelářová Kateřina | C6: Sokol Radotín | D6: 9.2 | E6: 8.8 | F6: 9.1 | G6: 8.85 | H6: =SUM(D6:G6) -> 35.95 | J6: 2. | K6: Peroutková Eliška | L6: Sokol Radotín | M6: 5.64
A7: 3. | B7: Peroutková Eliška | C7: Sokol Radotín | D7: 8.3 | E7: 8.9 | F7: 9.25 | G7: 8.6 | H7: =SUM(D7:G7) -> 35.05 | J7: 3. | K7: Militká Kateřina | L7: Sokol Vyšehrad | M7: 5.93
A8: 4. | B8: Fraňková Kateřina | C8: TJ ÚVN | D8: 8.8 | E8: 8.8 | F8: 8.05 | G8: 9.15 | H8: =SUM(D8:G8) -> 34.8 | J8: 4. | K8: Rajdlová Agáta | L8: Sokol Staré Město | M8: 6.08
A9: 5. | B9: Pilzová Táňa | C9: SK Velká Ohrada | D9: 8.95 | E9: 8.75 | F9: 8.05 | G9: 8.85 | H9: =SUM(D9:G9) -> 34.6 | J9: 5. | K9: Hofmanová Hana | L9: Sokol Libeň | M9: 6.7
A10: 6. | B10: Adamová Markéta | C10: Sokol Vyšehrad | D10: 8.8 | E10: 8.8 | F10: 8.05 | G10: 8.7 | H10: =SUM(D10:G10) -> 34.35 | J10: 6. | K10: Fojtíková Veronika | L10: Sokol Kunratice | M10: 6.99
A11: 7. | B11: Suchá Tereza | C11: SK Velká Ohrada | D11: 8.6 | E11: 7.9 | F11: 8.75 | G11: 9 | H11: =SUM(D11:G11) -> 34.25 | J11: 7. | K11: Slabá Šárka | L11: Sokol Vršovice | M11: 7.05
A12: 8. | B12: Koblová Tereza | C12: Gym Club REDA | D12: 8.6 | E12: 7.45 | F12: 8.8 | G12: 9.05 | H12: =SUM(D12:G12) -> 33.9 | J12: 8. | K12: Vránová Anna | L12: SK Velká Ohrada | M12: 7.86
A13: 9. | B13: Merunková Kristina | C13: TJ ÚVN | D13: 8.6 | E13: 8.55 | F13: 8.3 | G13: 8.35 | H13: =SUM(D13:G13) -> 33.8 | J13: 9. | K13: Šindelářová Lucie | L13: Sokol Kobylisy | M13: 8.03
A14: 10. | B14: Palesová Sarah | C14: Sokol Dejvice I | D14: 7.15 | E14: 8.2 | F14: 9 | G14: 9.05 | H14: =SUM(D14:G14) -> 33.4 | J14: 10. | K14: Merunková Kristina | L14: TJ ÚVN | M14: 8.15
A15: 11. | B15: Slabá Šárka | C15: Sokol Vršovice | D15: 8.2 | E15: 7.1 | F15: 8.75 | G15: 8.35 | H15: =SUM(D15:G15) -> 32.4 | J15: 11. | K15: Koblová Tereza | L15: Gym Club REDA | M15: 8.29
A16: 12. | B16: Rajdlová Agáta | C16: Sokol Staré Město | D16: 7.25 | E16: 7.35 | F16: 9.05 | G16: 8.5 | H16: =SUM(D16:G16) -> 32.15 | J16: 12. | K16: Adamová Markéta | L16: Sokol Vyšehrad | M16: 9.06
... A21: 17. | B21: Fojtíková Veronika | C21: Sokol Kunratice | D21: 6.1 | E21: 8 | F21: 7.25 | G21: 7.85 | H21: =SUM(D21:G21) -> 29.2 | J21: 17. | K21: Vacková Veronika | L21: Sokol Hlubočepy | M21: 14.98

Sheet strzne-4
A1: Závod ve sportovní gymnastice žákyň | D1: =('mlzne-1'!D1) -> PRAHA OPEN 2014 | G1: ='mlzne-1'!G1 -> 41767
A2: Kategorie: | B2: Starší žákyně IV
C3: Gymnastika | K3: Šplh
A4: Pořadí jednotlivci | B4: Jméno | C4: Jednota | D4: akrobacie | E4: hrazda | F4: kladina | G4: přeskok | H4: Celkem Jednotlivci | J4: Pořadí jednotlivci | K4: Jméno | L4: Jednota | M4: Čas
A5: 1. | B5: Procházková Tereza | C5: Sokol Radotín | D5: 9.3 | E5: 9.25 | F5: 8.95 | G5: 9.1 | H5: =SUM(D5:G5) -> 36.6 | J5: 1. | K5: Treglerová Michaela | L5: Sokol Vršovice | M5: 3.65
A6: 2. | B6: Felixová Mariana | C6: TJ Řeporyje | D6: 8.8 | E6: 8.9 | F6: 9.15 | G6: 9.2 | H6: =SUM(D6:G6) -> 36.05 | J6: 2. | K6: Halounková Barbora | L6: Sokol Radotín | M6: 3.88
A7: 3. | B7: Halounková Barbora | C7: Sokol Radotín | D7: 9.4 | E7: 8.5 | F7: 9.05 | G7: 8.8 | H7: =SUM(D7:G7) -> 35.75 | J7: 3. | K7: Procházková Tereza | L7: Sokol Radotín | M7: 3.94
A8: 4. | B8: Bendíková Alžběta | C8: Sokol Radotín | D8: 9.15 | E8: 9 | F8: 8.35 | G8: 9 | H8: =SUM(D8:G8) -> 35.5 | J8: 4. | K8: Rogozová Lucie | L8: Sokol Kunratice | M8: 3.95
A9: 5. | B9: Rogozová Lucie | C9: Sokol Kunratice | D9: 9 | E9: 8.75 | F9: 8.7 | G9: 8.65 | H9: =SUM(D9:G9) -> 35.1 | J9: 5. | K9: Matoušková Kateřina | L9: Sokol Vršovice | M9: 4.07
A10: 6. | B10: Treglerová Michaela | C10: Sokol Vršovice | D10: 8.85 | E10: 8.3 | F10: 8.7 | G10: 9.2 | H10: =SUM(D10:G10) -> 35.05 | J10: 6. | K10: Bendíková Alžběta | L10: Sokol Radotín | M10: 4.62
A11: 7. | B11: Šimáčková Anna | C11: SK Velká Ohrada | D11: 8.7 | E11: 8.15 | F11: 8.45 | G11: 9.6 | H11: =SUM(D11:G11) -> 34.9 | J11: 7. | K11: Vendlová Johana | L11: Sokol Pražský | M11: 5.84
A12: 8. | B12: Štefflová Diviška | C12: Sokol Vršovice | D12: 8.55 | E12: 8.8 | F12: 8.6 | G12: 8.85 | H12: =SUM(D12:G12) -> 34.8 | J12: 8. | K12: Felixová Mariana | L12: TJ Řeporyje | M12: 5.94
A13: 9. | B13: Zmátlová Anežka | C13: Sokol Královské Vinohrady | D13: 8.75 | E13: 8.4 | F13: 8.55 | G13: 9 | H13: =SUM(D13:G13) -> 34.7 | J13: 9. | K13: Zmátlová Anežka | L13: Sokol Královské Vinohrady | M13: 5.96
A14: 10. | B14: Kovaříková Karolína | C14: SK Velká Ohrada | D14: 8.05 | E14: 8.35 | F14: 8.8 | G14: 9.1 | H14: =SUM(D14:G14) -> 34.3 | J14: 10. | K14: Štefflová Diviška | L14: Sokol Vršovice | M14: 5.97
A15: 11. | B15: Rákosová Andrea | C15: TJ ÚVN | D15: 8.1 | E15: 8.15 | F15: 8.9 | G15: 8.95 | H15: =SUM(D15:G15) -> 34.1 | J15: 11. | K15: Kovaříková Karolína | L15: SK Velká Ohrada | M15: 6.3
A16: 12. | B16: Matoušková Kateřina | C16: Sokol Vršovice | D16: 8.55 | E16: 8.2 | F16: 8.75 | G16: 8.5 | H16: =SUM(D16:G16) -> 34 | J16: 12. | K16: Šimáčková Anna | L16: SK Velká Ohrada | M16: 6.93
... A18: 14. | B18: Dvořáková Barbora | C18: Sokol Vršovice | D18: 8.1 | E18: 7.35 | F18: 8.1 | G18: 8.3 | H18: =SUM(D18:G18) -> 31.85 | J18: 14. | K18: Dvořáková Barbora | L18: Sokol Vršovice | M18: 14.27

Sheet mlzci-1
A1: Závod ve sportovní gymnastice žáků | D1: =('mlzne-1'!D1) -> PRAHA OPEN 2014 | G1: ='mlzne-1'!G1 -> 41767
A2: Kategorie: | B2: Mladší žáci I
C3: Gymnastika | K3: Šplh
A4: Pořadí jednotlivci | B4: Jméno | C4: Jednota | D4: akrobacie | E4: hrazda | F4: kruhy | G4: přeskok | H4: Celkem Jednotlivci | J4: Pořadí jednotlivci | K4: Jméno | L4: Jednota | M4: Čas
A5: 1. | B5: Bernátek Šimon | C5: Sokol Radotín | D5: 8.45 | E5: 9.05 | F5: 8.7 | G5: 9.2 | H5: =SUM(D5:G5) -> 35.4 | J5: 1. | K5: Lebeda Jan | L5: Sokol Kobylisy | M5: 3.87
A6: 2. | B6: Lebeda Jan | C6: Sokol Kobylisy | D6: 8.1 | E6: 8.4 | F6: 8.15 | G6: 8.55 | H6: =SUM(D6:G6) -> 33.2 | J6: 2. | K6: Berka Filip | L6: Sokol Hlubočepy | M6: 4.12
A7: 3. | B7: Bezchleba Dan | C7: Sokol Kobylisy | D7: 7.55 | E7: 8.45 | F7: 8.65 | G7: 8.4 | H7: =SUM(D7:G7) -> 33.05 | J7: 3. | K7: Bernátek Šimon | L7: Sokol Radotín | M7: 4.69
A8: 4. | B8: Berka Filip | C8: Sokol Hlubočepy | D8: 7.2 | E8: 7.5 | F8: 7.9 | G8: 8.1 | H8: =SUM(D8:G8) -> 30.7 | J8: 4. | K8: Bezchleba Dan | L8: Sokol Kobylisy | M8: 4.81
A9: 5. | B9: Berka Lukáš | C9: Sokol Hlubočepy | D9: 7.4 | E9: 7.35 | F9: 8 | G9: 7.5 | H9: =SUM(D9:G9) -> 30.25 | J9: 5. | K9: Dallmeyer David | L9: Sokol Staré Město | M9: 5.32
A10: 6. | B10: Dallmeyer David | C10: Sokol Staré Město | D10: 6.8 | E10: 7.1 | F10: 7.65 | G10: 7.95 | H10: =SUM(D10:G10) -> 29.5 | J10: 6. | K10: Berka Lukáš | L10: Sokol Hlubočepy | M10: 5.73
A11: 7. | B11: Čermák Ondřej | C11: Sokol Staré Město | D11: 5.9 | E11: 7.25 | F11: 7.05 | G11: 7.05 | H11: =SUM(D11:G11) -> 27.25 | J11: 7. | K11: Čermák Ondřej | L11: Sokol Staré Město | M11: 6.33

Sheet mlzci-2
A1: Závod ve sportovní gymnastice žáků | D1: =('mlzne-1'!D1) -> PRAHA OPEN 2014 | G1: ='mlzne-1'!G1 -> 41767
A2: Kategorie: | B2: Mladší žáci II
C3: Gymnastika | K3: Šplh
A4: Pořadí jednotlivci | B4: Jméno | C4: Jednota | D4: akrobacie | E4: hrazda | F4: kruhy | G4: přeskok | H4: Celkem Jednotlivci | J4: Pořadí jednotlivci | K4: Jméno | L4: Jednota | M4: Čas
A5: 1. | B5: Voves Matěj | C5: Slavoj Holešovice | D5: 7.7 | E5: 8.4 | F5: 8.7 | G5: 7.9 | H5: =SUM(D5:G5) -> 32.7 | J5: 1. | K5: Ečer Jakub | L5: Sokol Staré Město | M5: 6.12
A6: 2. | B6: Kopecký Tadeáš | C6: Sokol Radotín | D6: 7.6 | E6: 8.25 | F6: 8 | G6: 8.3 | H6: =SUM(D6:G6) -> 32.15 | J6: 2. | K6: Voves Matěj | L6: Slavoj Holešovice | M6: 6.22
A7: 3. | B7: Ečer Jakub | C7: Sokol Staré Město | D7: 7.5 | E7: 8 | F7: 8.4 | G7: 8.05 | H7: =SUM(D7:G7) -> 31.95 | J7: 3. | K7: Argaláč Martin | L7: Slavoj Holešovice | M7: 7.08
A8: 4. | B8: Křížek Maxim | C8: Sokol Radotín | D8: 7.45 | E8: 7.7 | F8: 8.25 | G8: 8.4 | H8: =SUM(D8:G8) -> 31.8 | J8: 4. | K8: Křížek Maxim | L8: Sokol Radotín | M8: 8.2
A9: 5. | B9: Argaláč Martin | C9: Slavoj Holešovice | D9: 7.1 | E9: 8 | F9: 8.15 | G9: 8.2 | H9: =SUM(D9:G9) -> 31.45 | J9: 5. | K9: Pícl Daniel | L9: Sokol Spořilov | M9: 10.17
A10: 6. | B10: Pícl Daniel | C10: Sokol Spořilov | D10: 7.2 | E10: 7.5 | F10: 7.85 | G10: 8 | H10: =SUM(D10:G10) -> 30.55 | J10: 6. | K10: Kopecký Tadeáš | L10: Sokol Radotín | M10: 19.56

Sheet strzci-3
A1: Závod ve sportovní gymnastice žáků | D1: =('mlzne-1'!D1) -> PRAHA OPEN 2014 | G1: ='mlzne-1'!G1 -> 41767
A2: Kategorie: | B2: Starší žáci III
C3: Gymnastika | K3: Šplh
A4: Pořadí jednotlivci | B4: Jméno | C4: Jednota | D4: akrobacie | E4: hrazda | F4: kruhy | G4: přeskok | H4: Celkem Jednotlivci | J4: Pořadí jednotlivci | K4: Jméno | L4: Jednota | M4: Čas
A5: 1. | B5: Novák Tomáš | C5: Sokol Radotín | D5: 9.15 | E5: 8.75 | F5: 7.65 | G5: 9.15 | H5: =SUM(D5:G5) -> 34.7 | J5: 1. | K5: Kloubský Richard | L5: Sokol Libeň | M5: 7.39
A6: 2. | B6: Novák Jindřich | C6: Sokol Radotín | D6: 9.2 | E6: 8.5 | F6: 8.25 | G6: 8.5 | H6: =SUM(D6:G6) -> 34.45 | J6: 2. | K6: Hlinovský Michal | L6: Sokol Motol | M6: 8.66
A7: 3. | B7: Kloubský Richard | C7: Sokol Libeň | D7: 8.1 | E7: 9.05 | F7: 7.95 | G7: 8.95 | H7: =SUM(D7:G7) -> 34.05 | J7: 3. | K7: Novák Jindřich | L7: Sokol Radotín | M7: 9.93
A8: 4. | B8: Hlinovský Michal | C8: Sokol Motol | D8: 8.75 | E8: 8.7 | F8: 7.2 | G8: 5 | H8: =SUM(D8:G8) -> 29.65 | J8: 4. | K8: Novák Tomáš | L8: Sokol Radotín | M8: 11.12
